BEGIN:VCALENDAR
PRODID:-//AddEvent Inc//AddEvent.com v1.7//EN
VERSION:2.0
BEGIN:VTIMEZONE
TZID:Europe/London
BEGIN:STANDARD
DTSTART:20261025T010000
RRULE:FREQ=YEARLY;BYDAY=-1SU;BYMONTH=10
TZOFFSETFROM:+0100
TZOFFSETTO:+0000
TZNAME:GMT
END:STANDARD
BEGIN:DAYLIGHT
DTSTART:20260329T020000
RRULE:FREQ=YEARLY;BYDAY=-1SU;BYMONTH=3
TZOFFSETFROM:+0000
TZOFFSETTO:+0100
TZNAME:BST
END:DAYLIGHT
END:VTIMEZONE
BEGIN:VEVENT
DESCRIPTION:Join us for an intimate gathering at Hotel Gotham in the wonderful city of Manchester to connect with CISO peers as we dive deep into tactics and strategies on the current state of physical and cyber red teaming.\n\nIn a post-COVID world\, some mind-sets\, attitudes and business decisions have reverted back to the thinking that physical and cyber red teaming exercises are not a necessity. Yet it goes without saying that we’re in a time of year on year growth of threats and attacks.\n\nHotel Gotham | Manchester\nWelcome Reception 17:30-18:30 – Private Members Club Outdoor Terrace\nDinner 18:30-21:30 – GILT The Strong Room | Hotel Gotham | Manchester
X-ALT-DESC;FMTTYPE=text/html:Join us for an intimate gathering at Hotel Gotham in the wonderful city of Manchester to connect with CISO peers as we dive deep into tactics and strategies on the current state of physical and cyber red teaming.<br><br>In a post-COVID world, some mind-sets, attitudes and business decisions have reverted back to the thinking that physical and cyber red teaming exercises are not a necessity. Yet it goes without saying that we’re in a time of year on year growth of threats and attacks.<br><br>Hotel Gotham | Manchester<br />Welcome Reception 17:30-18:30 – Private Members Club Outdoor Terrace<br />Dinner 18:30-21:30 – GILT The Strong Room | Hotel Gotham | Manchester
UID:1777161603addeventcom
SUMMARY:CISO 360 Roundtable: Red Teaming
DTSTART;TZID=Europe/London:20241127T173000
DTEND;TZID=Europe/London:20241127T213000
DTSTAMP:20260426T000003Z
TRANSP:OPAQUE
STATUS:CONFIRMED
SEQUENCE:0
LOCATION:Hotel Gotham | Manchester
X-MICROSOFT-CDO-BUSYSTATUS:BUSY
BEGIN:VALARM
TRIGGER:-PT1440M
ACTION:DISPLAY
DESCRIPTION:Reminder
END:VALARM
END:VEVENT
END:VCALENDAR