BEGIN:VCALENDAR
PRODID:-//AddEvent Inc//AddEvent.com v1.7//EN
VERSION:2.0
BEGIN:VTIMEZONE
TZID:America/Detroit
BEGIN:STANDARD
DTSTART:20261101T010000
RRULE:FREQ=YEARLY;BYDAY=1SU;BYMONTH=11
TZOFFSETFROM:-0400
TZOFFSETTO:-0500
TZNAME:EST
END:STANDARD
BEGIN:DAYLIGHT
DTSTART:20260308T030000
RRULE:FREQ=YEARLY;BYDAY=2SU;BYMONTH=3
TZOFFSETFROM:-0500
TZOFFSETTO:-0400
TZNAME:EDT
END:DAYLIGHT
END:VTIMEZONE
BEGIN:VEVENT
DESCRIPTION:Join Eric R. Fearon\, M.D.\, Ph.D.\, director of the University of Michigan Health Rogel Cancer Center\, and a panel of leading experts to learn practical ways to identify and lower your cancer risk. Understand how your genetics and family history can help you make informed choices and gain the latest information on lifestyle factors (and how they shape your risk profile) and recommended screenings. Take charge of your health during National Cancer Prevention Month!
X-ALT-DESC;FMTTYPE=text/html:Join Eric R. Fearon, M.D., Ph.D., director of the University of Michigan Health Rogel Cancer Center, and a panel of leading experts to learn practical ways to identify and lower your cancer risk. Understand how your genetics and family history can help you make informed choices and gain the latest information on lifestyle factors (and how they shape your risk profile) and recommended screenings. Take charge of your health during National Cancer Prevention Month!
UID:1776849033addeventcom
SUMMARY:Well Aware With Michigan Medicine Webinar
DTSTART;TZID=America/Detroit:20260205T120000
DTEND;TZID=America/Detroit:20260205T130000
DTSTAMP:20260422T091033Z
TRANSP:OPAQUE
STATUS:CONFIRMED
SEQUENCE:0
LOCATION:https://umich.zoom.us/j/92304868570
X-MICROSOFT-CDO-BUSYSTATUS:BUSY
BEGIN:VALARM
TRIGGER:-PT30M
ACTION:DISPLAY
DESCRIPTION:Reminder
END:VALARM
END:VEVENT
END:VCALENDAR