BEGIN:VCALENDAR
PRODID:-//AddEvent Inc//AddEvent.com v1.7//EN
VERSION:2.0
BEGIN:VTIMEZONE
TZID:Asia/Nicosia
BEGIN:STANDARD
DTSTART:20261025T030000
RRULE:FREQ=YEARLY;BYDAY=-1SU;BYMONTH=10
TZOFFSETFROM:+0300
TZOFFSETTO:+0200
TZNAME:EET
END:STANDARD
BEGIN:DAYLIGHT
DTSTART:20260329T040000
RRULE:FREQ=YEARLY;BYDAY=-1SU;BYMONTH=3
TZOFFSETFROM:+0200
TZOFFSETTO:+0300
TZNAME:EEST
END:DAYLIGHT
END:VTIMEZONE
BEGIN:VEVENT
DESCRIPTION:Στο πλαίσιο της σειράς «ΛΟΓΟΠΛΟΚΙΕΣ: Διαδικτυακές Συζητήσεις για την κοινωνία\, την επιστήμη και τον πολιτισμό https://eur02.safelinks.protection.outlook.com/?url=https%3A%2F%2Fwww.ouc.ac.cy%2Findex.php%2Fel%2Fnews-events-menu-2%2Fnea%2F4656-logoplokies&data=05%7C02%7Cgeorgios.christofi%40st.ouc.ac.cy%7C64609ba4bf424659def508dd5c8e03f6%7C2e0d0b8246f747dcaac6ad637a92519b%7C0%7C0%7C638768487434846378%7CUnknown%7CTWFpbGZsb3d8eyJFbXB0eU1hcGkiOnRydWUsIlYiOiIwLjAuMDAwMCIsIlAiOiJXaW4zMiIsIkFOIjoiTWFpbCIsIldUIjoyfQ%3D%3D%7C0%7C%7C%7C&sdata=fUnKL3vymkLjajEAstqevfOU%2F1h5GVn3F%2B87mx5cuq4%3D&reserved=0»\, η Δρ Ελισάβετ Κιούρτη https://ouc.academia.edu/ElisavetKiourti\, Ακαδημαϊκή Σύμβουλος της Σχολής Ανθρωπιστικών και Κοινωνικών Επιστημών https://www.ouc.ac.cy/index.php/el/the-university-4/faculties/sake στο Ανοικτό Πανεπιστημίου Κύπρου https://www.ouc.ac.cy/index.php/el/ (ΑΠΚΥ)\, ο Δρ Νίκος Τριμικλινιώτης\, Αναπληρωτής Καθηγητής στο Πανεπιστήμιο Λευκωσίας https://www.unic.ac.cy/el/apply/?utm_source=Google&utm_medium=Search&utm_campaign=Cyprus-Brand-Greek&utm_term=%CE%B4%CE%B9%CE%B4%CE%B1%CE%BA%CF%84%CE%BF%CF%81%CE%B9%CE%BA%CF%8C%20%CF%80%CE%B1%CE%BD%CE%B5%CF%80%CE%B9%CF%83%CF%84%CE%AE%CE%BC%CE%B9%CE%BF%20%CE%BB%CE%B5%CF%85%CE%BA%CF%89%CF%83%CE%AF%CE%B1%CF%82&gad_source=1&gad_campaignid=14248488893&gbraid=0AAAAADwY6MhUNRU7m7MIKNpxgBb8aOe5P&gclid=EAIaIQobChMIzu-Lv7WTjQMV6p2DBx0TlACyEAAYASAAEgIutvD_BwE και ο Δρ Μιχαηλάγγελος Αναστασίου\, Ερευνητικός Ακόλουθος στο Πανεπιστήμιο Λευκωσίας και Ειδικός Επιστήμονας στο Πανεπιστήμιο Κύπρου https://www.ucy.ac.cy/\, θα συζητήσουν το θέμα «Τεχνητή Νοημοσύνη και Ανθρωπιστικές Σπουδές: Προοπτικές\, Προκλήσεις και Προβληματισμοί». Η συζήτηση θα πραγματοποιηθεί την Τετάρτη\, 21 Μαΐου 2025 στις 7:00 μ.μ.\, ανοικτή στο κοινό για διαδικτυακή παρακολούθηση και συζήτηση\, μέσω των εργαλείων τηλεκπαίδευσης του ΑΠΚΥ στον σύνδεσμο: https://tinyurl.com/ms5vby92\n\n\n\n------\n\nPowered by addevent.com \nShare your next event with us!\n
X-ALT-DESC;FMTTYPE=text/html:<p style="margin:0cm;font-size:16px;"><span>Στο πλαίσιο της σειράς <span style="color:#242424;background:white;">«</span></span><a href="https://eur02.safelinks.protection.outlook.com/?url=https%3A%2F%2Fwww.ouc.ac.cy%2Findex.php%2Fel%2Fnews-events-menu-2%2Fnea%2F4656-logoplokies&data=05%7C02%7Cgeorgios.christofi%40st.ouc.ac.cy%7C64609ba4bf424659def508dd5c8e03f6%7C2e0d0b8246f747dcaac6ad637a92519b%7C0%7C0%7C638768487434846378%7CUnknown%7CTWFpbGZsb3d8eyJFbXB0eU1hcGkiOnRydWUsIlYiOiIwLjAuMDAwMCIsIlAiOiJXaW4zMiIsIkFOIjoiTWFpbCIsIldUIjoyfQ%3D%3D%7C0%7C%7C%7C&sdata=fUnKL3vymkLjajEAstqevfOU%2F1h5GVn3F%2B87mx5cuq4%3D&reserved=0" target="_blank" title="Original URL: https://www.ouc.ac.cy/index.php/el/news-events-menu-2/nea/4656-logoplokies. Click or tap if you trust this link."><strong><span>ΛΟΓΟΠΛΟΚΙΕΣ: Διαδικτυακές Συζητήσεις για την κοινωνία, την επιστήμη και τον πολιτισμό</span></strong></a><strong><span>»</span></strong><span>, η <strong>Δρ </strong></span><a href="https://ouc.academia.edu/ElisavetKiourti"><strong><span>Ελισάβετ Κιούρτη</span></strong></a><span>, Ακαδημαϊκή Σύμβουλος της <a href="https://www.ouc.ac.cy/index.php/el/the-university-4/faculties/sake">Σχολής Ανθρωπιστικών και Κοινωνικών Επιστημών</a> στο </span><a href="https://www.ouc.ac.cy/index.php/el/"><strong><span>Ανοικτό Πανεπιστημίου Κύπρου</span></strong></a><strong><span> (ΑΠΚΥ), </span></strong><span>ο <strong>Δρ Νίκος Τριμικλινιώτης</strong>, Αναπληρωτής Καθηγητής στο </span><a href="https://www.unic.ac.cy/el/apply/?utm_source=Google&utm_medium=Search&utm_campaign=Cyprus-Brand-Greek&utm_term=%CE%B4%CE%B9%CE%B4%CE%B1%CE%BA%CF%84%CE%BF%CF%81%CE%B9%CE%BA%CF%8C%20%CF%80%CE%B1%CE%BD%CE%B5%CF%80%CE%B9%CF%83%CF%84%CE%AE%CE%BC%CE%B9%CE%BF%20%CE%BB%CE%B5%CF%85%CE%BA%CF%89%CF%83%CE%AF%CE%B1%CF%82&gad_source=1&gad_campaignid=14248488893&gbraid=0AAAAADwY6MhUNRU7m7MIKNpxgBb8aOe5P&gclid=EAIaIQobChMIzu-Lv7WTjQMV6p2DBx0TlACyEAAYASAAEgIutvD_BwE"><span>Πανεπιστήμιο Λευκωσίας</span></a><span> και ο <strong>Δρ Μιχαηλάγγελος Αναστασίου</strong>, Ερευνητικός Ακόλουθος στο Πανεπιστήμιο Λευκωσίας και Ειδικός Επιστήμονας στο </span><a href="https://www.ucy.ac.cy/"><span>Πανεπιστήμιο Κύπρου</span></a><span>,<strong><span style="color:#242424;background:white;"> </span></strong>θα συζητήσουν το θέμα «</span><strong><span>Τεχνητή Νοημοσύνη και Ανθρωπιστικές Σπουδές: Προοπτικές, Προκλήσεις και Προβληματισμοί».</span></strong><span> Η συζήτηση θα πραγματοποιηθεί την <strong>Τετάρτη, 21 Μαΐου 2025 </strong>στις<strong> 7:00 μ.μ., </strong>ανοικτή στο κοινό για <strong>διαδικτυακή παρακολούθηση</strong> και συζήτηση, μέσω των εργαλείων τηλεκπαίδευσης του ΑΠΚΥ<strong> στον σύνδεσμο:</strong> </span><strong><span><a href="https://tinyurl.com/ms5vby92">https://tinyurl.com/ms5vby92</a></span></strong></p><br /><br />------<br /><br />Powered by addevent.com <br>Share your next event with us!<br>
UID:1776839102addeventcom
SUMMARY:Τεχνητή Νοημοσύνη και Ανθρωπιστικές Σπουδές: Προοπτικές\, Προκλήσεις & Προβληματισμοί
DTSTART;TZID=Asia/Nicosia:20250521T190000
DTEND;TZID=Asia/Nicosia:20250521T203000
DTSTAMP:20260422T062502Z
TRANSP:OPAQUE
STATUS:CONFIRMED
SEQUENCE:0
LOCATION:Online
X-MICROSOFT-CDO-BUSYSTATUS:BUSY
BEGIN:VALARM
TRIGGER:-PT60M
ACTION:DISPLAY
DESCRIPTION:Reminder
END:VALARM
END:VEVENT
END:VCALENDAR