BEGIN:VCALENDAR
PRODID:-//AddEvent Inc//AddEvent.com v1.7//EN
VERSION:2.0
BEGIN:VEVENT
DESCRIPTION:VC4A and ABAN are pleased to announce we will be hosting the 9th edition of the Africa Early Stage Investor Summit (#AESIS2022) on November 2-4 2022. This year the annual ‘for investors\, by investors’ event will bring together Africa’s early-stage investor community at a series of local in-country meetups on the 2nd and connect as a global community in a virtual program on the 3rd and 4th of November. \n\nKeep an eye out on www.africainvestorsummit.com to follow developments for everything happening at the Summit\, discover deal flow\, and network with fellow investors. Looking forward to welcoming you to #AESIS2022 and don't hesitate reaching out to team for any questions > team@africainvestorsummit.com
X-ALT-DESC;FMTTYPE=text/html:VC4A and ABAN are pleased to announce we will be hosting the 9th edition of the Africa Early Stage Investor Summit (#AESIS2022) on November 2-4 2022. This year the annual ‘for investors, by investors’ event will bring together Africa’s early-stage investor community at a series of local in-country meetups on the 2nd and connect as a global community in a virtual program on the 3rd and 4th of November. <br><br>Keep an eye out on www.africainvestorsummit.com to follow developments for everything happening at the Summit, discover deal flow, and network with fellow investors. Looking forward to welcoming you to #AESIS2022 and don't hesitate reaching out to team for any questions &gt; team@africainvestorsummit.com
UID:1776976149addeventcom
SUMMARY:Africa Early Stage Investor Summit 2022 #AESIS2022
DTSTART;VALUE=DATE:20221102
DTEND;VALUE=DATE:20221105
DTSTAMP:20260423T202909Z
TRANSP:OPAQUE
STATUS:CONFIRMED
SEQUENCE:0
X-MICROSOFT-CDO-BUSYSTATUS:BUSY
BEGIN:VALARM
TRIGGER:-PT10080M
ACTION:DISPLAY
DESCRIPTION:Reminder
END:VALARM
END:VEVENT
END:VCALENDAR