BEGIN:VCALENDAR
PRODID:-//AddEvent Inc//AddEvent.com v1.7//EN
VERSION:2.0
BEGIN:VTIMEZONE
TZID:America/New_York
BEGIN:STANDARD
DTSTART:20261101T010000
RRULE:FREQ=YEARLY;BYDAY=1SU;BYMONTH=11
TZOFFSETFROM:-0400
TZOFFSETTO:-0500
TZNAME:EST
END:STANDARD
BEGIN:DAYLIGHT
DTSTART:20260308T030000
RRULE:FREQ=YEARLY;BYDAY=2SU;BYMONTH=3
TZOFFSETFROM:-0500
TZOFFSETTO:-0400
TZNAME:EDT
END:DAYLIGHT
END:VTIMEZONE
BEGIN:VEVENT
DESCRIPTION:The Capitol Forum’s 2025 Tech Conference<br data-start="252" data-end="255" />The National Press Club\, Washington\, DC 20045<br data-start="300" data-end="303" />October 1\, 2025\n\nThe Capitol Forum’s annual tech conference is back\, with a focus on 2025’s hot topics in tech competition policy including algorithmic price fixing\, personalized–or surveillance–pricing\, data brokers\, and data privacy in the age of generative artificial intelligence. The conference format includes a series of panel discussions and keynote presentations\, with speakers carefully selected from thought leaders and industry experts in tech policy and antitrust issues in tech.\n\n------\n\nPowered by addevent.com \nShare your next event with us!\n
X-ALT-DESC;FMTTYPE=text/html:<p data-end="324" data-start="208"><strong data-end="252" data-start="208"><em>The Capitol Forum’s</em> 2025 Tech Conference</strong><br data-start="252" data-end="255" />The National Press Club, Washington, DC 20045<br data-start="300" data-end="303" /><strong data-end="322" data-start="303">October 1, 2025</strong></p><em>The Capitol Forum’s</em> annual tech conference is back, with a focus on 2025’s hot topics in tech competition policy including algorithmic price fixing, personalized–or surveillance–pricing, data brokers, and data privacy in the age of generative artificial intelligence. The conference format includes a series of panel discussions and keynote presentations, with speakers carefully selected from thought leaders and industry experts in tech policy and antitrust issues in tech.<br /><br />------<br /><br />Powered by addevent.com <br>Share your next event with us!<br>
UID:1777135554addeventcom
SUMMARY:The Capitol Forum 2025 Tech Conference
DTSTART;TZID=America/New_York:20251001T094500
DTEND;TZID=America/New_York:20251001T160000
DTSTAMP:20260425T164554Z
TRANSP:OPAQUE
STATUS:CONFIRMED
SEQUENCE:0
LOCATION:The National Press Club: 529 14th St NW\, Washington\, DC 20045
X-MICROSOFT-CDO-BUSYSTATUS:BUSY
BEGIN:VALARM
TRIGGER:-PT1440M
ACTION:DISPLAY
DESCRIPTION:Reminder
END:VALARM
END:VEVENT
END:VCALENDAR