BEGIN:VCALENDAR
PRODID:-//AddEvent Inc//AddEvent.com v1.7//EN
VERSION:2.0
BEGIN:VTIMEZONE
TZID:Asia/Nicosia
BEGIN:STANDARD
DTSTART:20261025T030000
RRULE:FREQ=YEARLY;BYDAY=-1SU;BYMONTH=10
TZOFFSETFROM:+0300
TZOFFSETTO:+0200
TZNAME:EET
END:STANDARD
BEGIN:DAYLIGHT
DTSTART:20260329T040000
RRULE:FREQ=YEARLY;BYDAY=-1SU;BYMONTH=3
TZOFFSETFROM:+0200
TZOFFSETTO:+0300
TZNAME:EEST
END:DAYLIGHT
END:VTIMEZONE
BEGIN:VEVENT
DESCRIPTION:Με αφορμή την Παγκόσμια Ημέρα Υγείας 2025 με σύνθημα «Υγιείς αφετηρίες\, ελπιδοφόρο μέλλον»\, το Ανοικτό Πανεπιστήμιο Κύπρου https://www.ouc.ac.cy/index.php/el/ (ΑΠΚΥ) και το Μεταπτυχιακό του Πρόγραμμα «Διοίκηση Μονάδων Υγείας https://www.ouc.ac.cy/index.php/el/studies/programmes/master/master-dmy»\, σε συνεργασία με την Επιτροπή Μαιών/Μαιευτών του Παγκύπριου Συνδέσμου Νοσηλευτών και Μαιών Κύπρου https://cyna.org/%CE%B5%CF%80%CE%B9%CF%84%CF%81%CE%BF%CF%80%CE%B7-%CE%BC%CE%B1%CE%B9%CF%89%CE%BD/\, διοργανώνει τη Δευτέρα\, 7 Απριλίου 2025\, διαδικτυακή εκδήλωση με θέμα: «Κοινοτική Μαιευτική: Υπηρεσίες\, προκλήσεις και προοπτικές». Στόχος της εκδήλωσης είναι να τιμήσει τις εγκυμονούσες μητέρες και τα νεογνά και να ενημερώσει το κοινό για τις υπηρεσίες κοινοτικής μαιευτικής που είναι διαθέσιμες στις εγκυμονούσες\, τις λεχωΐδες και τα νεογνά στην Κύπρο. Η εκδήλωση θα πραγματοποιηθεί μεταξύ 17:00 και 18:00 μ.μ. διαδικτυακά μέσω των εργαλείων τηλεκπαίδευσης του ΑΠΚΥ στον σύνδεσμο: https://shorturl.at/pqHgB https://shorturl.at/pqHgB \n\n\n\n------\n\nPowered by addevent.com \nShare your next event with us!\n
X-ALT-DESC;FMTTYPE=text/html:<p style="margin:0cm;font-size:16px;font-family:"><strong><span style="font-size:15px;font-family:">Με αφορμή την Παγκόσμια Ημέρα Υγείας 2025 με σύνθημα </span></strong><strong><span style="font-size:15px;font-family:">«Υγιείς αφετηρίες, ελπιδοφόρο μέλλον»</span></strong><span style="font-size:15px;font-family:">, </span><span style="font-size:15px;font-family:">το </span><a href="https://www.ouc.ac.cy/index.php/el/"><strong><span style="font-size:15px;font-family:">Ανοικτό Πανεπιστήμιο Κύπρου</span></strong></a><strong><span style="font-size:15px;font-family:"> (ΑΠΚΥ)</span></strong><span style="font-size:15px;font-family:"> και το Μεταπτυχιακό του Πρόγραμμα «</span><a href="https://www.ouc.ac.cy/index.php/el/studies/programmes/master/master-dmy"><strong><span style="font-size:15px;font-family:">Διοίκηση Μονάδων Υγείας</span></strong></a><span style="font-size:15px;font-family:">», σε συνεργασία με την </span><a href="https://cyna.org/%CE%B5%CF%80%CE%B9%CF%84%CF%81%CE%BF%CF%80%CE%B7-%CE%BC%CE%B1%CE%B9%CF%89%CE%BD/"><strong><span style="font-size:15px;font-family:">Επιτροπή Μαιών/Μαιευτών του Παγκύπριου Συνδέσμου Νοσηλευτών και Μαιών Κύπρου</span></strong></a><span style="font-size:15px;font-family:">, </span><span style="font-size:15px;font-family:">διοργανώνει τη <strong>Δευτέρα, 7 Απριλίου 2025, </strong><strong>διαδικτυακή εκδήλωση</strong> <strong>με θέμα</strong></span><strong><span style="font-size:15px;font-family:">:</span></strong><strong><span style="font-size:15px;font-family:"> </span></strong><strong><span style="font-size:15px;font-family:">«Κοινοτική Μαιευτική: Υπηρεσίες, προκλήσεις και προοπτικές»</span></strong><span style="font-size:15px;font-family:">. Στόχος της εκδήλωσης είναι να τιμήσει τις εγκυμονούσες μητέρες και τα νεογνά και να ενημερώσει το κοινό για τις υπηρεσίες κοινοτικής μαιευτικής που είναι διαθέσιμες στις εγκυμονούσες, τις λεχωΐδες και τα νεογνά στην Κύπρο. Η εκδήλωση θα πραγματοποιηθεί <strong>μεταξύ 17:00 και 18:00 μ.μ. διαδικτυακά</strong> μέσω των εργαλείων τηλεκπαίδευσης του ΑΠΚΥ <strong>στον σύνδεσμο: </strong></span><a href="https://shorturl.at/pqHgB"><strong><span style="font-size:15px;font-family:">https://shorturl.at/pqHgB</span></strong></a><strong><span style="font-size:15px;font-family:"> </span></strong></p><br /><br />------<br /><br />Powered by addevent.com <br>Share your next event with us!<br>
UID:1776784649addeventcom
SUMMARY:Διαδικτυακή Εκδήλωση: «Κοινοτική Μαιευτική: Υπηρεσίες\, προκλήσεις και προοπτικές»
DTSTART;TZID=Asia/Nicosia:20250407T170000
DTEND;TZID=Asia/Nicosia:20250407T180000
DTSTAMP:20260421T151729Z
TRANSP:OPAQUE
STATUS:CONFIRMED
SEQUENCE:0
LOCATION:Online
X-MICROSOFT-CDO-BUSYSTATUS:BUSY
BEGIN:VALARM
TRIGGER:-PT60M
ACTION:DISPLAY
DESCRIPTION:Reminder
END:VALARM
END:VEVENT
END:VCALENDAR