BEGIN:VCALENDAR
PRODID:-//AddEvent Inc//AddEvent.com v1.7//EN
VERSION:2.0
BEGIN:VTIMEZONE
TZID:America/Los_Angeles
BEGIN:STANDARD
DTSTART:20261101T010000
RRULE:FREQ=YEARLY;BYDAY=1SU;BYMONTH=11
TZOFFSETFROM:-0700
TZOFFSETTO:-0800
TZNAME:PST
END:STANDARD
BEGIN:DAYLIGHT
DTSTART:20260308T030000
RRULE:FREQ=YEARLY;BYDAY=2SU;BYMONTH=3
TZOFFSETFROM:-0800
TZOFFSETTO:-0700
TZNAME:PDT
END:DAYLIGHT
END:VTIMEZONE
BEGIN:VEVENT
DESCRIPTION:All details can be found on the Pacific chapter web page.\nhttps://www.westerndredging.org/index.php/regionalchapters/pacific-chapter 
X-ALT-DESC;FMTTYPE=text/html:All details can be found on the Pacific chapter web page.<br /><a href="https://www.westerndredging.org/index.php/regionalchapters/pacific-chapter">https://www.westerndredging.org/index.php/regionalchapters/pacific-chapter</a> 
UID:1776629836addeventcom
SUMMARY:WEDA Pacific Chapter Meeting
DTSTART;TZID=America/Los_Angeles:20241023T100000
DTEND;TZID=America/Los_Angeles:20241025T130000
DTSTAMP:20260419T201716Z
TRANSP:OPAQUE
STATUS:CONFIRMED
SEQUENCE:0
LOCATION:The Porter Curio Collection
X-MICROSOFT-CDO-BUSYSTATUS:BUSY
BEGIN:VALARM
TRIGGER:-PT1440M
ACTION:DISPLAY
DESCRIPTION:Reminder
END:VALARM
END:VEVENT
END:VCALENDAR