BEGIN:VCALENDAR
PRODID:-//AddEvent Inc//AddEvent.com v1.7//EN
VERSION:2.0
BEGIN:VTIMEZONE
TZID:Asia/Nicosia
BEGIN:STANDARD
DTSTART:20261025T030000
RRULE:FREQ=YEARLY;BYDAY=-1SU;BYMONTH=10
TZOFFSETFROM:+0300
TZOFFSETTO:+0200
TZNAME:EET
END:STANDARD
BEGIN:DAYLIGHT
DTSTART:20260329T040000
RRULE:FREQ=YEARLY;BYDAY=-1SU;BYMONTH=3
TZOFFSETFROM:+0200
TZOFFSETTO:+0300
TZNAME:EEST
END:DAYLIGHT
END:VTIMEZONE
BEGIN:VEVENT
DESCRIPTION:Το Προπτυχιακό πρόγραμμα «Νομική» και η Έδρα Jean Monnet «Θεσμοί της Ευρωπαϊκής Ένωσης\, Δικαιώματα και Δικαστική Ολοκλήρωση» του Ανοικτού Πανεπιστημίου Κύπρου (ΑΠΚΥ) διοργανώνει διαδικτυακή διάλεξη με τίτλο «Αποκλειστικές αρμοδιότητες των κρατών μελών και υποχρέωση συμμόρφωσης με το δίκαιο της Ευρωπαϊκής Ένωσης: το παράδειγμα της απόκτησης και της απώλειας της ιθαγένειας ενός κράτους μέλους». Ομιλητής στη διάλεξη είναι ο Δρ. Κωνσταντίνος Λυκούργος\, Δικαστής στο Δικαστήριο της Ευρωπαϊκής Ένωσης (ΔΕΕ). Η διάλεξη θα λάβει χώρα στις 29 Ιανουαρίου 2025 στις 18:00 μ.μ. και θα μεταδοθεί διαδικτυακά στον σύνδεσμο: https://tinyurl.com/6d9ynxr7 \n\n------\n\nPowered by addevent.com \nShare your next event with us!\n
X-ALT-DESC;FMTTYPE=text/html:Το Προπτυχιακό πρόγραμμα «Νομική» και η Έδρα Jean Monnet «Θεσμοί της Ευρωπαϊκής Ένωσης, Δικαιώματα και Δικαστική Ολοκλήρωση» του Ανοικτού Πανεπιστημίου Κύπρου (ΑΠΚΥ) διοργανώνει διαδικτυακή διάλεξη με τίτλο «Αποκλειστικές αρμοδιότητες των κρατών μελών και υποχρέωση συμμόρφωσης με το δίκαιο της Ευρωπαϊκής Ένωσης: το παράδειγμα της απόκτησης και της απώλειας της ιθαγένειας ενός κράτους μέλους». Ομιλητής στη διάλεξη είναι ο Δρ. Κωνσταντίνος Λυκούργος, Δικαστής στο Δικαστήριο της Ευρωπαϊκής Ένωσης (ΔΕΕ). Η διάλεξη θα λάβει χώρα στις 29 Ιανουαρίου 2025 στις 18:00 μ.μ. και θα μεταδοθεί διαδικτυακά στον σύνδεσμο: <a href="https://tinyurl.com/6d9ynxr7">https://tinyurl.com/6d9ynxr7</a> <br /><br />------<br /><br />Powered by addevent.com <br>Share your next event with us!<br>
UID:1776767330addeventcom
SUMMARY:Αποκλειστικές αρμοδιότητες των κρατών μελών και υποχρέωση συμμόρφωσης με το δίκαιο της Ευρωπαϊκής Ένωσης
DTSTART;TZID=Asia/Nicosia:20250129T180000
DTEND;TZID=Asia/Nicosia:20250129T194500
DTSTAMP:20260421T102850Z
TRANSP:OPAQUE
STATUS:CONFIRMED
SEQUENCE:0
LOCATION:Online
X-MICROSOFT-CDO-BUSYSTATUS:BUSY
BEGIN:VALARM
TRIGGER:-PT60M
ACTION:DISPLAY
DESCRIPTION:Reminder
END:VALARM
END:VEVENT
END:VCALENDAR