BEGIN:VCALENDAR
PRODID:-//AddEvent Inc//AddEvent.com v1.7//EN
VERSION:2.0
BEGIN:VTIMEZONE
TZID:Europe/Amsterdam
BEGIN:STANDARD
DTSTART:20261025T020000
RRULE:FREQ=YEARLY;BYDAY=-1SU;BYMONTH=10
TZOFFSETFROM:+0200
TZOFFSETTO:+0100
TZNAME:CET
END:STANDARD
BEGIN:DAYLIGHT
DTSTART:20260329T030000
RRULE:FREQ=YEARLY;BYDAY=-1SU;BYMONTH=3
TZOFFSETFROM:+0100
TZOFFSETTO:+0200
TZNAME:CEST
END:DAYLIGHT
END:VTIMEZONE
BEGIN:VEVENT
DESCRIPTION:Data Expo is the platform where supply and demand from the data sector meet. Our 100 exhibitors and 150 speakers look forward to welcoming you to the Jaarbeurs Utrecht on 10 and/or 11 September 2024!
X-ALT-DESC;FMTTYPE=text/html:Data Expo is the platform where supply and demand from the data sector meet. Our 100 exhibitors and 150 speakers look forward to welcoming you to the Jaarbeurs Utrecht on 10 and/or 11 September 2024!
UID:1776651935addeventcom
SUMMARY:Data Expo 2025
DTSTART;TZID=Europe/Amsterdam:20250910T100000
DTEND;TZID=Europe/Amsterdam:20250911T170000
DTSTAMP:20260420T022535Z
TRANSP:OPAQUE
STATUS:CONFIRMED
SEQUENCE:0
LOCATION:Jaarbeursplein 6\, 3521 AL Utrecht
X-MICROSOFT-CDO-BUSYSTATUS:BUSY
BEGIN:VALARM
TRIGGER:-PT30M
ACTION:DISPLAY
DESCRIPTION:Reminder
END:VALARM
END:VEVENT
END:VCALENDAR