BEGIN:VCALENDAR
PRODID:-//AddEvent Inc//AddEvent.com v1.7//EN
VERSION:2.0
BEGIN:VTIMEZONE
TZID:Europe/Warsaw
BEGIN:STANDARD
DTSTART:20261025T020000
RRULE:FREQ=YEARLY;BYDAY=-1SU;BYMONTH=10
TZOFFSETFROM:+0200
TZOFFSETTO:+0100
TZNAME:CET
END:STANDARD
BEGIN:DAYLIGHT
DTSTART:20260329T030000
RRULE:FREQ=YEARLY;BYDAY=-1SU;BYMONTH=3
TZOFFSETFROM:+0100
TZOFFSETTO:+0200
TZNAME:CEST
END:DAYLIGHT
END:VTIMEZONE
BEGIN:VEVENT
DESCRIPTION:w czwartek 3 października o godz. 12:00 gościem WEBINARU „Prosto w fundusz”\, organizowanego przez platformę KupFundusz.pl https://www.kupfundusz.pl/ będzie Mariusz Zaród - zarządzający funduszem QUERCUS Obligacji Skarbowych z QUERCUS TFI. \n\n📅 Szczegóły już jutro\, w czwartek 3.10\, o godz.12:00\n 🔗 Link do transmisji na youtube https://www.youtube.com/watch?v=el787OoHA_o\n \nQUERCUS Obligacji Skarbowych inwestuje w polski dług\, głównie długoterminowy. Fundusz uzyskał bardzo dobry\, wyraźnie wyższy niż indeks obligacji TBSP wynik w okresie ostatnich 12 miesięcy. O tym jak wycisnąć jak najwięcej z polskich papierów skarbowych\, zapytamy naszego gościa – Mariusza Zaroda z QUERCUS TFI.   \n\nZachęcamy do oglądania i zadawania pytań.
X-ALT-DESC;FMTTYPE=text/html:<strong>w czwartek 3 października o godz. 12:00 </strong>gościem WEBINARU „Prosto w fundusz”, organizowanego przez platformę <a href="https://www.kupfundusz.pl/">KupFundusz.pl</a> będzie <strong>Mariusz Zaród </strong>- zarządzający funduszem <strong>QUERCUS Obligacji Skarbowych</strong> z QUERCUS TFI. <br><br>📅 Szczegóły już jutro, w czwartek 3.10, o godz.12:00<br /> 🔗 Link do transmisji na <a href="https://www.youtube.com/watch?v=el787OoHA_o">youtube</a><br /> <br /><strong>QUERCUS Obligacji Skarbowych </strong>inwestuje w polski dług, głównie długoterminowy.<strong> </strong>Fundusz uzyskał bardzo dobry, wyraźnie wyższy niż indeks obligacji TBSP wynik w okresie ostatnich 12 miesięcy. O tym jak wycisnąć jak najwięcej z polskich papierów skarbowych,<strong> </strong>zapytamy naszego gościa – Mariusza Zaroda z QUERCUS TFI.   <br><br>Zachęcamy do oglądania i zadawania pytań.
UID:1776807765addeventcom
SUMMARY:2024-10-03 Prosto w fundusz: QUERCUS Obligacji Skarbowych
DTSTART;TZID=Europe/Warsaw:20241003T120000
DTEND;TZID=Europe/Warsaw:20241003T130000
DTSTAMP:20260421T214245Z
TRANSP:OPAQUE
STATUS:CONFIRMED
SEQUENCE:0
LOCATION:https://www.youtube.com/watch?v=el787OoHA_o
X-MICROSOFT-CDO-BUSYSTATUS:BUSY
BEGIN:VALARM
TRIGGER:-PT60M
ACTION:DISPLAY
DESCRIPTION:Reminder
END:VALARM
END:VEVENT
END:VCALENDAR