BEGIN:VCALENDAR
PRODID:-//AddEvent Inc//AddEvent.com v1.7//EN
VERSION:2.0
BEGIN:VTIMEZONE
TZID:Europe/Paris
BEGIN:STANDARD
DTSTART:20261025T020000
RRULE:FREQ=YEARLY;BYDAY=-1SU;BYMONTH=10
TZOFFSETFROM:+0200
TZOFFSETTO:+0100
TZNAME:CET
END:STANDARD
BEGIN:DAYLIGHT
DTSTART:20260329T030000
RRULE:FREQ=YEARLY;BYDAY=-1SU;BYMONTH=3
TZOFFSETFROM:+0100
TZOFFSETTO:+0200
TZNAME:CEST
END:DAYLIGHT
END:VTIMEZONE
BEGIN:VEVENT
DESCRIPTION:Seminar URL: https://www.pianogroove.com/live-seminars/danny-boy-eddie-higgins-version/\n\nLearn Eddie Higgins' solo piano rendition of the tune "Danny Boy". We examine Eddie's introduction\, voicings\, fills\, and rerharmonisations of this beautiful solo piano arrangement.
X-ALT-DESC;FMTTYPE=text/html:Seminar URL: https://www.pianogroove.com/live-seminars/danny-boy-eddie-higgins-version/<br><br>Learn Eddie Higgins' solo piano rendition of the tune "Danny Boy". We examine Eddie's introduction, voicings, fills, and rerharmonisations of this beautiful solo piano arrangement.
UID:1776930545addeventcom
SUMMARY:Eddie Higgins - Danny Boy
DTSTART;TZID=Europe/Paris:20221005T180000
DTEND;TZID=Europe/Paris:20221005T190000
DTSTAMP:20260423T074905Z
TRANSP:OPAQUE
STATUS:CONFIRMED
SEQUENCE:0
LOCATION:https://www.pianogroove.com/live-seminars/danny-boy-eddie-higgins-version/
X-MICROSOFT-CDO-BUSYSTATUS:BUSY
BEGIN:VALARM
TRIGGER:-PT30M
ACTION:DISPLAY
DESCRIPTION:Reminder
END:VALARM
END:VEVENT
END:VCALENDAR