BEGIN:VCALENDAR
PRODID:-//AddEvent Inc//AddEvent.com v1.7//EN
VERSION:2.0
BEGIN:VTIMEZONE
TZID:America/New_York
BEGIN:STANDARD
DTSTART:20261101T010000
RRULE:FREQ=YEARLY;BYDAY=1SU;BYMONTH=11
TZOFFSETFROM:-0400
TZOFFSETTO:-0500
TZNAME:EST
END:STANDARD
BEGIN:DAYLIGHT
DTSTART:20260308T030000
RRULE:FREQ=YEARLY;BYDAY=2SU;BYMONTH=3
TZOFFSETFROM:-0500
TZOFFSETTO:-0400
TZNAME:EDT
END:DAYLIGHT
END:VTIMEZONE
BEGIN:VEVENT
DESCRIPTION:Speaker: Julie Kay Lundquist\, Bloomberg Distinguished Professor at\nAtmospheric Science and Wind Energy at Johns Hopkins University \n\nTalk Title: New insights into atmosphere-wind energy interactions via virtual lidar and multiscale modeling
X-ALT-DESC;FMTTYPE=text/html:<strong>Speaker: </strong>Julie Kay Lundquist, Bloomberg Distinguished Professor at<br />Atmospheric Science and Wind Energy at Johns Hopkins University <br><br><strong>Talk Title: </strong>New insights into atmosphere-wind energy interactions via virtual lidar and multiscale modeling
UID:1776728368addeventcom
SUMMARY:Environmental Science Seminar Series
DTSTART;TZID=America/New_York:20260410T120000
DTEND;TZID=America/New_York:20260410T130000
DTSTAMP:20260420T233928Z
TRANSP:OPAQUE
STATUS:CONFIRMED
SEQUENCE:0
LOCATION:48-316
X-MICROSOFT-CDO-BUSYSTATUS:BUSY
BEGIN:VALARM
TRIGGER:-PT30M
ACTION:DISPLAY
DESCRIPTION:Reminder
END:VALARM
END:VEVENT
END:VCALENDAR