BEGIN:VCALENDAR
PRODID:-//AddEvent Inc//AddEvent.com v1.7//EN
VERSION:2.0
BEGIN:VEVENT
DESCRIPTION:Save the date for Rare Disease Day on Sunday\, February 28th! Rare Disease Day is a worldwide movement and appendix cancer and pseudomyxoma peritonei (PMP) are rare diseases. Join us in making an impact by sharing the ACPMP Research Foundation's content and showing your stripes to help raise awareness and advocate for not only appendix cancer and PMP\, but all rare diseases. \n\nRare Disease Day is an opportunity to enlighten the public about issues affecting rare disease patients such as overcoming health inequities - including the lack of understanding around rare conditions and challenges patients must face to even get an accurate diagnosis.\n\nGo to acpmp.org/rare-disease-day-2021 to learn more!\n\n------\n\nPowered by addevent.com \nShare your next event with us!\n
X-ALT-DESC;FMTTYPE=text/html:Save the date for Rare Disease Day on Sunday, February 28th! Rare Disease Day is a worldwide movement and appendix cancer and pseudomyxoma peritonei (PMP) are rare diseases. Join us in making an impact by sharing the ACPMP Research Foundation's content and showing your stripes to help raise awareness and advocate for not only appendix cancer and PMP, but all rare diseases. <br><br>Rare Disease Day is an opportunity to enlighten the public about issues affecting rare disease patients such as overcoming health inequities - including the lack of understanding around rare conditions and challenges patients must face to even get an accurate diagnosis.<br><br>Go to acpmp.org/rare-disease-day-2021 to learn more!<br /><br />------<br /><br />Powered by addevent.com <br>Share your next event with us!<br>
UID:1776875663addeventcom
SUMMARY:Rare Disease Day
DTSTART;VALUE=DATE:20210228
DTEND;VALUE=DATE:20210301
DTSTAMP:20260422T163423Z
TRANSP:OPAQUE
STATUS:CONFIRMED
SEQUENCE:0
X-MICROSOFT-CDO-BUSYSTATUS:BUSY
BEGIN:VALARM
TRIGGER:-PT1440M
ACTION:DISPLAY
DESCRIPTION:Reminder
END:VALARM
END:VEVENT
END:VCALENDAR