BEGIN:VCALENDAR
PRODID:-//AddEvent Inc//AddEvent.com v1.7//EN
VERSION:2.0
BEGIN:VTIMEZONE
TZID:America/Phoenix
BEGIN:STANDARD
DTSTART:19691231T170000
TZOFFSETFROM:-0700
TZOFFSETTO:-0700
TZNAME:MST
END:STANDARD
END:VTIMEZONE
BEGIN:VEVENT
DESCRIPTION:Think you have what it takes to be the first Modern Data Community Open champion?\n\nJoin Fivetran\, dbt Labs and Thoughspot for an afternoon of Topgolf–fit with a tournament leaderboard\, Golf Pro to assist with your swing\, and a first-place trophy.
X-ALT-DESC;FMTTYPE=text/html:Think you have what it takes to be the first Modern Data Community Open champion?<br><br>Join Fivetran, dbt Labs and Thoughspot for an afternoon of Topgolf–fit with a tournament leaderboard, Golf Pro to assist with your swing, and a first-place trophy.
UID:1776615559addeventcom
SUMMARY:Modern Data Community Open
DTSTART;TZID=America/Phoenix:20230615T153000
DTEND;TZID=America/Phoenix:20230615T183000
DTSTAMP:20260419T161919Z
TRANSP:OPAQUE
STATUS:CONFIRMED
SEQUENCE:0
LOCATION:Topgolf Scottsdale\, 9500 Talking Stick Way\, Scottsdale\, AZ 85256
X-MICROSOFT-CDO-BUSYSTATUS:BUSY
BEGIN:VALARM
TRIGGER:-PT30M
ACTION:DISPLAY
DESCRIPTION:Reminder
END:VALARM
END:VEVENT
END:VCALENDAR