BEGIN:VCALENDAR
PRODID:-//AddEvent Inc//AddEvent.com v1.7//EN
VERSION:2.0
BEGIN:VTIMEZONE
TZID:Europe/Paris
BEGIN:STANDARD
DTSTART:20261025T020000
RRULE:FREQ=YEARLY;BYDAY=-1SU;BYMONTH=10
TZOFFSETFROM:+0200
TZOFFSETTO:+0100
TZNAME:CET
END:STANDARD
BEGIN:DAYLIGHT
DTSTART:20260329T030000
RRULE:FREQ=YEARLY;BYDAY=-1SU;BYMONTH=3
TZOFFSETFROM:+0100
TZOFFSETTO:+0200
TZNAME:CEST
END:DAYLIGHT
END:VTIMEZONE
BEGIN:VEVENT
DESCRIPTION:Zoom Meeting: https://us06web.zoom.us/j/81111352647?pwd=UmoydDdrTEZ3dy9TY1ZFWloxTHFvdz09\n\nIn this workshop we are going to take a look on a well-known jazz standard 'Take The A Train'. We will be talking about different improvisational tools\, which helps us create good\, tasteful melodies\, and gets us to the path on improvising on chord changes. We will be approaching improvisation from a down-to-earth and practical point of view\, using simple applications\, and examples from the greats in jazz\, to further help us to understand the essence of a good solo.
X-ALT-DESC;FMTTYPE=text/html:Zoom Meeting: https://us06web.zoom.us/j/81111352647?pwd=UmoydDdrTEZ3dy9TY1ZFWloxTHFvdz09<br><br>In this workshop we are going to take a look on a well-known jazz standard 'Take The A Train'. We will be talking about different improvisational tools, which helps us create good, tasteful melodies, and gets us to the path on improvising on chord changes. We will be approaching improvisation from a down-to-earth and practical point of view, using simple applications, and examples from the greats in jazz, to further help us to understand the essence of a good solo.
UID:1776606737addeventcom
SUMMARY:Jazz Standard Workshop: 'Take The A Train' Series - Improvisation
DTSTART;TZID=Europe/Paris:20220419T180000
DTEND;TZID=Europe/Paris:20220419T190000
DTSTAMP:20260419T135217Z
TRANSP:OPAQUE
STATUS:CONFIRMED
SEQUENCE:0
LOCATION:https://us06web.zoom.us/j/81111352647?pwd=UmoydDdrTEZ3dy9TY1ZFWloxTHFvdz09
X-MICROSOFT-CDO-BUSYSTATUS:BUSY
BEGIN:VALARM
TRIGGER:-PT60M
ACTION:DISPLAY
DESCRIPTION:Reminder
END:VALARM
END:VEVENT
END:VCALENDAR