BEGIN:VCALENDAR
PRODID:-//AddEvent Inc//AddEvent.com v1.7//EN
VERSION:2.0
BEGIN:VTIMEZONE
TZID:America/Los_Angeles
BEGIN:STANDARD
DTSTART:20261101T010000
RRULE:FREQ=YEARLY;BYDAY=1SU;BYMONTH=11
TZOFFSETFROM:-0700
TZOFFSETTO:-0800
TZNAME:PST
END:STANDARD
BEGIN:DAYLIGHT
DTSTART:20260308T030000
RRULE:FREQ=YEARLY;BYDAY=2SU;BYMONTH=3
TZOFFSETFROM:-0800
TZOFFSETTO:-0700
TZNAME:PDT
END:DAYLIGHT
END:VTIMEZONE
BEGIN:VEVENT
DESCRIPTION:Tune in to the CES opening keynote by NVIDIA CEO Jensen Huang live in Las Vegas on Monday\, January 6\, at 6:30 p.m. PT.\n\nTune in to the NVIDIA event page https://www.nvidia.com/en-us/events/ces/ to watch the livestream.
X-ALT-DESC;FMTTYPE=text/html:Tune in to the CES opening keynote by NVIDIA CEO Jensen Huang live in Las Vegas on Monday, January 6, at 6:30 p.m. PT.<br><br>Tune in to the <a href="https://www.nvidia.com/en-us/events/ces/">NVIDIA event page</a> to watch the livestream.
UID:1776653282addeventcom
SUMMARY:NVIDIA CEO Keynote at CES 2025
DTSTART;TZID=America/Los_Angeles:20250106T183000
DTEND;TZID=America/Los_Angeles:20250106T200000
DTSTAMP:20260420T024802Z
TRANSP:OPAQUE
STATUS:CONFIRMED
SEQUENCE:0
LOCATION:https://www.nvidia.com/en-us/events/ces/
X-MICROSOFT-CDO-BUSYSTATUS:BUSY
BEGIN:VALARM
TRIGGER:-PT1440M
ACTION:DISPLAY
DESCRIPTION:Reminder
END:VALARM
END:VEVENT
END:VCALENDAR