BEGIN:VCALENDAR
PRODID:-//AddEvent Inc//AddEvent.com v1.7//EN
VERSION:2.0
BEGIN:VTIMEZONE
TZID:America/Chicago
BEGIN:STANDARD
DTSTART:20261101T010000
RRULE:FREQ=YEARLY;BYDAY=1SU;BYMONTH=11
TZOFFSETFROM:-0500
TZOFFSETTO:-0600
TZNAME:CST
END:STANDARD
BEGIN:DAYLIGHT
DTSTART:20260308T030000
RRULE:FREQ=YEARLY;BYDAY=2SU;BYMONTH=3
TZOFFSETFROM:-0600
TZOFFSETTO:-0500
TZNAME:CDT
END:DAYLIGHT
END:VTIMEZONE
BEGIN:VEVENT
DESCRIPTION:The 2023 North Shore Gas Energy Forum is taking place on September 25\, 2023!\n\nYou will receive updates on how to register. Check out the Energy Forum Website https://nsg.mc-ally.com/2023-energy-forum/ for the latest details.\n\n------\n\nPowered by addevent.com \nShare your next event with us!\n
X-ALT-DESC;FMTTYPE=text/html:The 2023 North Shore Gas Energy Forum is taking place on September 25, 2023!<br><br>You will receive updates on how to register. Check out the <a href="https://nsg.mc-ally.com/2023-energy-forum/" rel="noopener noreferrer" style="line-height: 22.4px;" target="_blank">Energy Forum Website</a> for the latest details.<br /><br />------<br /><br />Powered by addevent.com <br>Share your next event with us!<br>
UID:1776812958addeventcom
SUMMARY:Save the Date: North Shore Gas Energy Forum 2023
DTSTART;TZID=America/Chicago:20230925T090000
DTEND;TZID=America/Chicago:20230925T140000
DTSTAMP:20260421T230918Z
TRANSP:OPAQUE
STATUS:CONFIRMED
SEQUENCE:0
LOCATION:Chicago Botanic Garden 1000 Lake Cook Rd.\, Glencoe\, IL 60022
X-MICROSOFT-CDO-BUSYSTATUS:BUSY
BEGIN:VALARM
TRIGGER:-PT1440M
ACTION:DISPLAY
DESCRIPTION:Reminder
END:VALARM
END:VEVENT
END:VCALENDAR