BEGIN:VCALENDAR
PRODID:-//AddEvent Inc//AddEvent.com v1.7//EN
VERSION:2.0
BEGIN:VTIMEZONE
TZID:Europe/Warsaw
BEGIN:STANDARD
DTSTART:20261025T020000
RRULE:FREQ=YEARLY;BYDAY=-1SU;BYMONTH=10
TZOFFSETFROM:+0200
TZOFFSETTO:+0100
TZNAME:CET
END:STANDARD
BEGIN:DAYLIGHT
DTSTART:20260329T030000
RRULE:FREQ=YEARLY;BYDAY=-1SU;BYMONTH=3
TZOFFSETFROM:+0100
TZOFFSETTO:+0200
TZNAME:CEST
END:DAYLIGHT
END:VTIMEZONE
BEGIN:VEVENT
DESCRIPTION:UNIQA Akcji Małych i Średnich Spółek i Sebastian Liński\, zarządzający w UNIQA TFI w rozmowie na żywo w paśmie „Prosto w Fundusz” w środę 12 czerwca o godzinie 12.00. Tu nie ma kompromisów.\n\nSpółki z WIG20 nie mają tu wstępu. Tylko małe i średnie. I już. Właściwie w odwrotnej kolejności. Czyli głównie spółki z mWIG40 i wybrane z sWIG80\, a nawet jeszcze mniejsze. Wśród największych pozycji ostatnio w portfelu ING Bank Śląski\, Bank Millennium\, Skarb Państwa\, Benefit\, Asseco\, Intercars. Rewelacyjny wynik w ubiegłym roku. Ponad 42%!\n\n👌 Jakie są perspektywy na resztę tego roku?\n\n👌 Co jest najważniejsze przy wyborze małych i średnich spółek?\n\n👌 Co decyduje o zamykaniu pozycji na spółkach?\n\nTe i wiele innych tematów oraz pytania od Was.
X-ALT-DESC;FMTTYPE=text/html:UNIQA Akcji Małych i Średnich Spółek i Sebastian Liński, zarządzający w UNIQA TFI w rozmowie na żywo w paśmie „Prosto w Fundusz” w środę 12 czerwca o godzinie 12.00. Tu nie ma kompromisów.<br><br>Spółki z WIG20 nie mają tu wstępu. Tylko małe i średnie. I już. Właściwie w odwrotnej kolejności. Czyli głównie spółki z mWIG40 i wybrane z sWIG80, a nawet jeszcze mniejsze. Wśród największych pozycji ostatnio w portfelu ING Bank Śląski, Bank Millennium, Skarb Państwa, Benefit, Asseco, Intercars. Rewelacyjny wynik w ubiegłym roku. Ponad 42%!<br><br>👌 Jakie są perspektywy na resztę tego roku?<br><br>👌 Co jest najważniejsze przy wyborze małych i średnich spółek?<br><br>👌 Co decyduje o zamykaniu pozycji na spółkach?<br><br>Te i wiele innych tematów oraz pytania od Was.
UID:1776803878addeventcom
SUMMARY:2024-06-05 Prosto w fundusz - UNIQA Akcji Małych i Średnich Spółek
DTSTART;TZID=Europe/Warsaw:20240612T120000
DTEND;TZID=Europe/Warsaw:20240612T130000
DTSTAMP:20260421T203758Z
TRANSP:OPAQUE
STATUS:CONFIRMED
SEQUENCE:0
LOCATION:https://www.youtube.com/watch?v=STQaPCk8OgY
X-MICROSOFT-CDO-BUSYSTATUS:BUSY
BEGIN:VALARM
TRIGGER:-PT60M
ACTION:DISPLAY
DESCRIPTION:Reminder
END:VALARM
END:VEVENT
END:VCALENDAR