BEGIN:VCALENDAR
PRODID:-//AddEvent Inc//AddEvent.com v1.7//EN
VERSION:2.0
BEGIN:VTIMEZONE
TZID:Asia/Bangkok
BEGIN:STANDARD
DTSTART:19700101T070000
TZOFFSETFROM:+0700
TZOFFSETTO:+0700
TZNAME:+07
END:STANDARD
END:VTIMEZONE
BEGIN:VEVENT
DESCRIPTION:Event Date: October 9\, 2025\nEvent Time: 8:30 AM - 5:00 PM (GMT +7)\nVenue: InterContinental Bangkok\, 973 Phloen Chit Rd\, Lumphini\, Pathum Wan\, Bangkok 10330
X-ALT-DESC;FMTTYPE=text/html:Event Date: October 9, 2025<br />Event Time: 8:30 AM - 5:00 PM (GMT +7)<br />Venue: <span data-sheets-root="1"><strong>InterContinental Bangkok</strong>, 973 Phloen Chit Rd, Lumphini, Pathum Wan, Bangkok 10330</span>
UID:1776736616addeventcom
SUMMARY:Red Hat Summit: Connect Bangkok
DTSTART;TZID=Asia/Bangkok:20251009T083000
DTEND;TZID=Asia/Bangkok:20251009T170000
DTSTAMP:20260421T015656Z
TRANSP:OPAQUE
STATUS:CONFIRMED
SEQUENCE:0
LOCATION:InterContinental Bangkok\, 973 Phloen Chit Rd\, Lumphini\, Pathum Wan\, Bangkok 10330
X-MICROSOFT-CDO-BUSYSTATUS:BUSY
BEGIN:VALARM
TRIGGER:-PT30M
ACTION:DISPLAY
DESCRIPTION:Reminder
END:VALARM
END:VEVENT
END:VCALENDAR