BEGIN:VCALENDAR
PRODID:-//AddEvent Inc//AddEvent.com v1.7//EN
VERSION:2.0
BEGIN:VEVENT
DESCRIPTION:Where: Hyatt Regency Austin in Austin\, TX\nWhen: April 29th - May 2nd\nConcierge Page: https://points.pointmetofirstclass.com/conference2027concierge\n\n\n\n------\n\nPowered by addevent.com \nShare your next event with us!\n
X-ALT-DESC;FMTTYPE=text/html:<strong>Where</strong>: Hyatt Regency Austin in Austin, TX<br /><strong>When</strong>: April 29th - May 2nd<br /><strong>Concierge Page:</strong> <a href="https://points.pointmetofirstclass.com/conference2027concierge" target="_blank" rel="noopener noreferrer">https://points.pointmetofirstclass.com/conference2027concierge</a><br><br><br /><br />------<br /><br />Powered by addevent.com <br>Share your next event with us!<br>
UID:1776817160addeventcom
SUMMARY:Point Me to First Class Conference
DTSTART;VALUE=DATE:20270429
DTEND;VALUE=DATE:20270503
DTSTAMP:20260422T001920Z
TRANSP:OPAQUE
STATUS:CONFIRMED
SEQUENCE:0
LOCATION:208 Barton Springs Rd\, Austin\, TX 78704
X-MICROSOFT-CDO-BUSYSTATUS:BUSY
BEGIN:VALARM
TRIGGER:-PT30M
ACTION:DISPLAY
DESCRIPTION:Reminder
END:VALARM
END:VEVENT
END:VCALENDAR