BEGIN:VCALENDAR
PRODID:-//AddEvent Inc//AddEvent.com v1.7//EN
VERSION:2.0
BEGIN:VTIMEZONE
TZID:America/New_York
BEGIN:STANDARD
DTSTART:20261101T010000
RRULE:FREQ=YEARLY;BYDAY=1SU;BYMONTH=11
TZOFFSETFROM:-0400
TZOFFSETTO:-0500
TZNAME:EST
END:STANDARD
BEGIN:DAYLIGHT
DTSTART:20260308T030000
RRULE:FREQ=YEARLY;BYDAY=2SU;BYMONTH=3
TZOFFSETFROM:-0500
TZOFFSETTO:-0400
TZNAME:EDT
END:DAYLIGHT
END:VTIMEZONE
BEGIN:VEVENT
DESCRIPTION:Shop the Midtown Artisan Market for Your Holiday Gifts!\n\nLooking for holiday gift ideas? Join Midtown Alliance and local small ATL businesses at the Midtown Artisan Market! \n\nStop by this open-air pop-up market in the heart of Midtown to shop unique goods from vintage clothing to handmade jewelry\, art\, and lots more. Featuring 40+ booths in all\, plus fun holiday music and FREE apple cider or hot cocoa for the first 250 attendees from our friends at Second Cup.\n\nThis free community event is the perfect way to 🛍️ #ShopSmall and connect with your Midtown community.\n\nWe will also raffle 4 complimentary tickets to Luzia\, Cirque du Soleil\, so make sure to follow @midtown_atl and @gvg for more information! \n\n❤️ Thank you to our event sponsors: Selig Enterprises & GVG Events
X-ALT-DESC;FMTTYPE=text/html:<strong>Shop the Midtown Artisan Market for Your Holiday Gifts!</strong><br><br>Looking for holiday gift ideas? Join Midtown Alliance and local small ATL businesses at the Midtown Artisan Market! <br><br>Stop by this open-air pop-up market in the heart of Midtown to shop unique goods from vintage clothing to handmade jewelry, art, and lots more. Featuring 40+ booths in all, plus fun holiday music and FREE apple cider or hot cocoa for the first 250 attendees from our friends at Second Cup.<br><br>This free community event is the perfect way to 🛍️ #ShopSmall and connect with your Midtown community.<br><br>We will also raffle 4 complimentary tickets to Luzia, Cirque du Soleil, so make sure to follow @midtown_atl and @gvg for more information! <br><br>❤️ Thank you to our event sponsors: Selig Enterprises &amp; GVG Events
UID:1776624245addeventcom
SUMMARY:Midtown Holiday Artisan Market 
DTSTART;TZID=America/New_York:20251206T120000
DTEND;TZID=America/New_York:20251206T180000
DTSTAMP:20260419T184405Z
TRANSP:OPAQUE
STATUS:CONFIRMED
SEQUENCE:0
LOCATION:1093 Peachtree Street (Corner of 12th and Peachtree Streets)
X-MICROSOFT-CDO-BUSYSTATUS:BUSY
BEGIN:VALARM
TRIGGER:-PT30M
ACTION:DISPLAY
DESCRIPTION:Reminder
END:VALARM
END:VEVENT
END:VCALENDAR