BEGIN:VCALENDAR
PRODID:-//AddEvent Inc//AddEvent.com v1.7//EN
VERSION:2.0
BEGIN:VEVENT
UID:1776784303addeventcom
SUMMARY:EAHAD 2023 Annual Congress
DTSTART;VALUE=DATE:20230207
DTEND;VALUE=DATE:20230211
DTSTAMP:20260421T151143Z
TRANSP:OPAQUE
STATUS:CONFIRMED
SEQUENCE:0
X-MICROSOFT-CDO-BUSYSTATUS:BUSY
END:VEVENT
END:VCALENDAR