BEGIN:VCALENDAR
PRODID:-//AddEvent Inc//AddEvent.com v1.7//EN
VERSION:2.0
BEGIN:VTIMEZONE
TZID:America/New_York
BEGIN:STANDARD
DTSTART:20261101T010000
RRULE:FREQ=YEARLY;BYDAY=1SU;BYMONTH=11
TZOFFSETFROM:-0400
TZOFFSETTO:-0500
TZNAME:EST
END:STANDARD
BEGIN:DAYLIGHT
DTSTART:20260308T030000
RRULE:FREQ=YEARLY;BYDAY=2SU;BYMONTH=3
TZOFFSETFROM:-0500
TZOFFSETTO:-0400
TZNAME:EDT
END:DAYLIGHT
END:VTIMEZONE
BEGIN:VEVENT
DESCRIPTION:Together we celebrate the words of Frederick Douglass delivered in Poughkeepsie's College Hill Park in 1858. \n\nJoin us for an interview with renowned artist Isaac Julien\, and performances by the Creative Percussion Ensemble\, Souls United Choir\, and an afro hip hop fusion dance showcase. Don't miss out on Carlos' Food Truck either! Event is free and everyone is invited.\n\n------\n\nPowered by addevent.com \nShare your next event with us!\n
X-ALT-DESC;FMTTYPE=text/html:Together we celebrate the words of Frederick Douglass delivered in Poughkeepsie's College Hill Park in 1858. <br><br>Join us for an interview with renowned artist Isaac Julien, and performances by the Creative Percussion Ensemble, Souls United Choir, and an afro hip hop fusion dance showcase. Don't miss out on Carlos' Food Truck either! Event is free and everyone is invited.<br /><br />------<br /><br />Powered by addevent.com <br>Share your next event with us!<br>
UID:1777112415addeventcom
SUMMARY:Frederick Douglass 1858 Speech Commemoration
DTSTART;TZID=America/New_York:20220730T120000
DTEND;TZID=America/New_York:20220730T150000
DTSTAMP:20260425T102015Z
TRANSP:OPAQUE
STATUS:CONFIRMED
SEQUENCE:0
LOCATION:149 N Clinton St Poughkeepsie\, NY 12601
X-MICROSOFT-CDO-BUSYSTATUS:BUSY
BEGIN:VALARM
TRIGGER:-PT2880M
ACTION:DISPLAY
DESCRIPTION:Reminder
END:VALARM
END:VEVENT
END:VCALENDAR