BEGIN:VCALENDAR
PRODID:-//AddEvent Inc//AddEvent.com v1.7//EN
VERSION:2.0
BEGIN:VEVENT
UID:1776720847addeventcom
SUMMARY:Biology Of Belief in London
DTSTART:20261128T190000
DTEND:20261128T210000
DTSTAMP:20260420T213407Z
TRANSP:OPAQUE
STATUS:CONFIRMED
SEQUENCE:0
LOCATION:The Light Euston\, 173-177 Euston Road\, London\, NW1 2BJ
X-MICROSOFT-CDO-BUSYSTATUS:BUSY
BEGIN:VALARM
TRIGGER:-PT1440M
ACTION:DISPLAY
DESCRIPTION:Reminder
END:VALARM
END:VEVENT
END:VCALENDAR