BEGIN:VCALENDAR
PRODID:-//AddEvent Inc//AddEvent.com v1.7//EN
VERSION:2.0
BEGIN:VTIMEZONE
TZID:Australia/Sydney
BEGIN:STANDARD
DTSTART:20260405T020000
RRULE:FREQ=YEARLY;BYDAY=1SU;BYMONTH=4
TZOFFSETFROM:+1100
TZOFFSETTO:+1000
TZNAME:AEST
END:STANDARD
BEGIN:DAYLIGHT
DTSTART:20261004T030000
RRULE:FREQ=YEARLY;BYDAY=1SU;BYMONTH=10
TZOFFSETFROM:+1000
TZOFFSETTO:+1100
TZNAME:AEDT
END:DAYLIGHT
END:VTIMEZONE
BEGIN:VEVENT
DESCRIPTION:2026 Newcastle Caravan Lifestyle Expo\nFriday 30th January 2026: 9:00am - 4:00pm\nSaturday 31st February 2026: 9:00am - 4:00pm\nSunday 1st February 2026: 9:00am - 4:00pm
X-ALT-DESC;FMTTYPE=text/html:<strong><u>2026 Newcastle Caravan Lifestyle Expo<br /></u></strong>Friday 30th January 2026: 9:00am - 4:00pm<br />Saturday 31st February 2026: 9:00am - 4:00pm<br />Sunday 1st February 2026: 9:00am - 4:00pm
UID:1777039383addeventcom
SUMMARY:2026 Newcastle Caravan Lifestyle Expo
DTSTART;TZID=Australia/Sydney:20260130T090000
DTEND;TZID=Australia/Sydney:20260201T160000
DTSTAMP:20260424T140303Z
TRANSP:OPAQUE
STATUS:CONFIRMED
SEQUENCE:0
LOCATION:Showground Brown Road\, Broadmeadow\, 2292\, Australia
X-MICROSOFT-CDO-BUSYSTATUS:BUSY
BEGIN:VALARM
TRIGGER:-PT1440M
ACTION:DISPLAY
DESCRIPTION:Reminder
END:VALARM
END:VEVENT
END:VCALENDAR