BEGIN:VCALENDAR
PRODID:-//AddEvent Inc//AddEvent.com v1.7//EN
VERSION:2.0
BEGIN:VTIMEZONE
TZID:America/Los_Angeles
BEGIN:STANDARD
DTSTART:20261101T010000
RRULE:FREQ=YEARLY;BYDAY=1SU;BYMONTH=11
TZOFFSETFROM:-0700
TZOFFSETTO:-0800
TZNAME:PST
END:STANDARD
BEGIN:DAYLIGHT
DTSTART:20260308T030000
RRULE:FREQ=YEARLY;BYDAY=2SU;BYMONTH=3
TZOFFSETFROM:-0800
TZOFFSETTO:-0700
TZNAME:PDT
END:DAYLIGHT
END:VTIMEZONE
BEGIN:VEVENT
DESCRIPTION:Welcome to the vFairs Brainstorm Expo 2023. Take a peek inside and see what you can achieve with vFairs. Browse through our fully functional event in order to learn about our features and functionalities. Register today! It’s free and on-demand\, so you can revisit as much as you’d like.
X-ALT-DESC;FMTTYPE=text/html:Welcome to the vFairs Brainstorm Expo 2023. Take a peek inside and see what you can achieve with vFairs. Browse through our fully functional event in order to learn about our features and functionalities. Register today! It’s free and on-demand, so you can revisit as much as you’d like.
UID:1776964547addeventcom
SUMMARY:Brainstorm Expo 2023
DTSTART;TZID=America/Los_Angeles:20230730T090000
DTEND;TZID=America/Los_Angeles:20230730T170000
DTSTAMP:20260423T171547Z
TRANSP:OPAQUE
STATUS:CONFIRMED
SEQUENCE:0
LOCATION:https://brainstorm.vfairs.com/
X-MICROSOFT-CDO-BUSYSTATUS:BUSY
END:VEVENT
END:VCALENDAR