BEGIN:VCALENDAR
PRODID:-//AddEvent Inc//AddEvent.com v1.7//EN
VERSION:2.0
BEGIN:VTIMEZONE
TZID:Europe/Warsaw
BEGIN:STANDARD
DTSTART:20261025T020000
RRULE:FREQ=YEARLY;BYDAY=-1SU;BYMONTH=10
TZOFFSETFROM:+0200
TZOFFSETTO:+0100
TZNAME:CET
END:STANDARD
BEGIN:DAYLIGHT
DTSTART:20260329T030000
RRULE:FREQ=YEARLY;BYDAY=-1SU;BYMONTH=3
TZOFFSETFROM:+0100
TZOFFSETTO:+0200
TZNAME:CEST
END:DAYLIGHT
END:VTIMEZONE
BEGIN:VEVENT
DESCRIPTION:Zapraszamy na kolejną rozmowę na żywo z cyklu „Prosto w fundusz” na kanale platformy inwestycyjnej KupFundusz.pl. Naszym Gościem będzie Piotr Miliński – zarządzający funduszem QUERCUS Global Balanced z QUERCUS TFI.\n\nPo długiej przerwie zaglądamy do jednego z polskich funduszy absolutnej stopy zwrotu o zasięgu globalnym - QUERCUS Global Balanced. Fundusz nie ma sztywnych limitów inwestycyjnych - może być wypełniony po brzegi obligacjami\, ale jeśli zmienią się warunki\, może inwestować do 100% w akcje. Ponadto może mieć ekspozycję na nieruchomości i towary. Jakie wyniki osiąga i w co teraz inwestuje?
X-ALT-DESC;FMTTYPE=text/html:Zapraszamy na kolejną rozmowę na żywo z cyklu „Prosto w fundusz” na kanale platformy inwestycyjnej KupFundusz.pl. Naszym Gościem będzie Piotr Miliński – zarządzający funduszem <strong>QUERCUS Global Balanced </strong>z <strong>QUERCUS TFI</strong>.<br><br>Po długiej przerwie zaglądamy do jednego z polskich funduszy absolutnej stopy zwrotu o zasięgu globalnym - QUERCUS Global Balanced. Fundusz nie ma sztywnych limitów inwestycyjnych - może być wypełniony po brzegi obligacjami, ale jeśli zmienią się warunki, może inwestować do 100% w akcje. Ponadto może mieć ekspozycję na nieruchomości i towary. Jakie wyniki osiąga i w co teraz inwestuje?
UID:1776836209addeventcom
SUMMARY:2024-11-28 Prosto w fundusz: QUERCUS Global Balanced
DTSTART;TZID=Europe/Warsaw:20241128T120000
DTEND;TZID=Europe/Warsaw:20241128T130000
DTSTAMP:20260422T053649Z
TRANSP:OPAQUE
STATUS:CONFIRMED
SEQUENCE:0
LOCATION:https://www.youtube.com/watch?v=kUYgtrwavcM
X-MICROSOFT-CDO-BUSYSTATUS:BUSY
BEGIN:VALARM
TRIGGER:-PT60M
ACTION:DISPLAY
DESCRIPTION:Reminder
END:VALARM
END:VEVENT
END:VCALENDAR