BEGIN:VCALENDAR
PRODID:-//AddEvent Inc//AddEvent.com v1.7//EN
VERSION:2.0
BEGIN:VTIMEZONE
TZID:Europe/Paris
BEGIN:STANDARD
DTSTART:20261025T020000
RRULE:FREQ=YEARLY;BYDAY=-1SU;BYMONTH=10
TZOFFSETFROM:+0200
TZOFFSETTO:+0100
TZNAME:CET
END:STANDARD
BEGIN:DAYLIGHT
DTSTART:20260329T030000
RRULE:FREQ=YEARLY;BYDAY=-1SU;BYMONTH=3
TZOFFSETFROM:+0100
TZOFFSETTO:+0200
TZNAME:CEST
END:DAYLIGHT
END:VTIMEZONE
BEGIN:VEVENT
DESCRIPTION:Etat des lieux et perspectives des financements en faveur du climat en France\n\nProgramme:\n\n-Présentation du Panorama des financements climat en France:\n\n-Introduction\, périmètre et méthodologie de l’étude : secteurs et projets couverts\n\n-Résultats : évolution des investissements climat en France 2011 à 2017\n\n-Analyse : répartition des sources de financement\, rôle des instruments publics et privés\n\n-Discussion : quelle contribution des instruments financiers à l'atteinte des objectifs de la Stratégie nationale bas-carbone ?\n\n-Questions des participants\n\n*Webinaire en Français uniquement.\n\n*Un lien d'accès à l'événement sera communiqué prochainement.\n\n------\n\nPowered by addevent.com \nShare your next event with us!\n
X-ALT-DESC;FMTTYPE=text/html:Etat des lieux et perspectives des financements en faveur du climat en France<br><br>Programme:<br />-Présentation du Panorama des financements climat en France:<br />-Introduction, périmètre et méthodologie de l’étude : secteurs et projets couverts<br />-Résultats : évolution des investissements climat en France 2011 à 2017<br />-Analyse : répartition des sources de financement, rôle des instruments publics et privés<br />-Discussion : quelle contribution des instruments financiers à l'atteinte des objectifs de la Stratégie nationale bas-carbone ?<br />-Questions des participants<br><br>*Webinaire en Français uniquement.<br />*Un lien d'accès à l'événement sera communiqué prochainement.<br /><br />------<br /><br />Powered by addevent.com <br>Share your next event with us!<br>
UID:1776779301addeventcom
SUMMARY:Webinaire I4CE: Etat des lieux et perspectives des financements en faveur du climat en France
DTSTART;TZID=Europe/Paris:20171206T160000
DTEND;TZID=Europe/Paris:20171206T170000
DTSTAMP:20260421T134821Z
TRANSP:OPAQUE
STATUS:CONFIRMED
SEQUENCE:0
X-MICROSOFT-CDO-BUSYSTATUS:BUSY
END:VEVENT
END:VCALENDAR