BEGIN:VCALENDAR
PRODID:-//AddEvent Inc//AddEvent.com v1.7//EN
VERSION:2.0
BEGIN:VTIMEZONE
TZID:America/New_York
BEGIN:STANDARD
DTSTART:20261101T010000
RRULE:FREQ=YEARLY;BYDAY=1SU;BYMONTH=11
TZOFFSETFROM:-0400
TZOFFSETTO:-0500
TZNAME:EST
END:STANDARD
BEGIN:DAYLIGHT
DTSTART:20260308T030000
RRULE:FREQ=YEARLY;BYDAY=2SU;BYMONTH=3
TZOFFSETFROM:-0500
TZOFFSETTO:-0400
TZNAME:EDT
END:DAYLIGHT
END:VTIMEZONE
BEGIN:VEVENT
DESCRIPTION:Find out where the payments industry is today and where it's headed in 2021 and beyond. Join the interactive discussion with industry analysts LIVE on Zoom\, December 17 at 1pm ET. https://us02web.zoom.us/j/84574279591\n\n------\n\nPowered by addevent.com \nShare your next event with us!\n
X-ALT-DESC;FMTTYPE=text/html:Find out where the payments industry is today and where it's headed in 2021 and beyond. Join the interactive discussion with industry analysts LIVE on Zoom, December 17 at 1pm ET. https://us02web.zoom.us/j/84574279591<br /><br />------<br /><br />Powered by addevent.com <br>Share your next event with us!<br>
UID:1776953128addeventcom
SUMMARY:CardFlight webinar: What's happening NOW in the world of small business payments
DTSTART;TZID=America/New_York:20201217T130000
DTEND;TZID=America/New_York:20201217T134500
DTSTAMP:20260423T140528Z
TRANSP:OPAQUE
STATUS:CONFIRMED
SEQUENCE:0
LOCATION:https://us02web.zoom.us/j/84574279591
X-MICROSOFT-CDO-BUSYSTATUS:BUSY
BEGIN:VALARM
TRIGGER:-PT60M
ACTION:DISPLAY
DESCRIPTION:Reminder
END:VALARM
END:VEVENT
END:VCALENDAR