BEGIN:VCALENDAR
PRODID:-//AddEvent Inc//AddEvent.com v1.7//EN
VERSION:2.0
BEGIN:VTIMEZONE
TZID:America/Los_Angeles
BEGIN:STANDARD
DTSTART:20261101T010000
RRULE:FREQ=YEARLY;BYDAY=1SU;BYMONTH=11
TZOFFSETFROM:-0700
TZOFFSETTO:-0800
TZNAME:PST
END:STANDARD
BEGIN:DAYLIGHT
DTSTART:20260308T030000
RRULE:FREQ=YEARLY;BYDAY=2SU;BYMONTH=3
TZOFFSETFROM:-0800
TZOFFSETTO:-0700
TZNAME:PDT
END:DAYLIGHT
END:VTIMEZONE
BEGIN:VEVENT
DESCRIPTION:See you: https://bethosmer.com/clients https://www.google.com/url?q=https://bethosmer.com/clients&sa=D&source=calendar&usd=2&usg=AOvVaw0bEjh0eWQCfi5p_5KzEQvw\n\n------\n\nPowered by addevent.com \nShare your next event with us!\n
X-ALT-DESC;FMTTYPE=text/html:See you: <a href="https://www.google.com/url?q=https://bethosmer.com/clients&sa=D&source=calendar&usd=2&usg=AOvVaw0bEjh0eWQCfi5p_5KzEQvw" target="_blank">https://bethosmer.com/clients</a><br /><br />------<br /><br />Powered by addevent.com <br>Share your next event with us!<br>
UID:1777122181addeventcom
SUMMARY:✨3-hour virtual retreat✨
DTSTART;TZID=America/Los_Angeles:20240910T090000
DTEND;TZID=America/Los_Angeles:20240910T123000
DTSTAMP:20260425T130301Z
TRANSP:OPAQUE
STATUS:CONFIRMED
SEQUENCE:0
X-MICROSOFT-CDO-BUSYSTATUS:BUSY
BEGIN:VALARM
TRIGGER:-PT30M
ACTION:DISPLAY
DESCRIPTION:Reminder
END:VALARM
END:VEVENT
END:VCALENDAR