BEGIN:VCALENDAR
PRODID:-//AddEvent Inc//AddEvent.com v1.7//EN
VERSION:2.0
BEGIN:VTIMEZONE
TZID:Europe/Paris
BEGIN:STANDARD
DTSTART:20261025T020000
RRULE:FREQ=YEARLY;BYDAY=-1SU;BYMONTH=10
TZOFFSETFROM:+0200
TZOFFSETTO:+0100
TZNAME:CET
END:STANDARD
BEGIN:DAYLIGHT
DTSTART:20260329T030000
RRULE:FREQ=YEARLY;BYDAY=-1SU;BYMONTH=3
TZOFFSETFROM:+0100
TZOFFSETTO:+0200
TZNAME:CEST
END:DAYLIGHT
END:VTIMEZONE
BEGIN:VEVENT
DESCRIPTION:Seminar URL: https://www.pianogroove.com/live-seminars/moon-river-jazz-standard-workshop/\n\nIn this live seminar we take a deep dive into the tune "Moon River". We explore techniques to embellish the melody and add creative fills\, ornamentation\, and reharmonisations.
X-ALT-DESC;FMTTYPE=text/html:Seminar URL: https://www.pianogroove.com/live-seminars/moon-river-jazz-standard-workshop/<br><br>In this live seminar we take a deep dive into the tune "Moon River". We explore techniques to embellish the melody and add creative fills, ornamentation, and reharmonisations.
UID:1776955536addeventcom
SUMMARY:Moon River - Jazz Standard Workshop
DTSTART;TZID=Europe/Paris:20210827T180000
DTEND;TZID=Europe/Paris:20210827T190000
DTSTAMP:20260423T144536Z
TRANSP:OPAQUE
STATUS:CONFIRMED
SEQUENCE:0
LOCATION:https://www.pianogroove.com/live-seminars/moon-river-jazz-standard-workshop/
X-MICROSOFT-CDO-BUSYSTATUS:BUSY
BEGIN:VALARM
TRIGGER:-PT60M
ACTION:DISPLAY
DESCRIPTION:Reminder
END:VALARM
END:VEVENT
END:VCALENDAR