BEGIN:VCALENDAR
PRODID:-//AddEvent Inc//AddEvent.com v1.7//EN
VERSION:2.0
BEGIN:VTIMEZONE
TZID:America/Denver
BEGIN:STANDARD
DTSTART:20261101T010000
RRULE:FREQ=YEARLY;BYDAY=1SU;BYMONTH=11
TZOFFSETFROM:-0600
TZOFFSETTO:-0700
TZNAME:MST
END:STANDARD
BEGIN:DAYLIGHT
DTSTART:20260308T030000
RRULE:FREQ=YEARLY;BYDAY=2SU;BYMONTH=3
TZOFFSETFROM:-0700
TZOFFSETTO:-0600
TZNAME:MDT
END:DAYLIGHT
END:VTIMEZONE
BEGIN:VEVENT
DESCRIPTION:Our transformative time together is designed to be a game-changer\, equipping you with focused strategies and insights that will prevent the drain of your invaluable time\, energy\, and resources. Here\, you'll learn how to align your business with your unique vision and values\, creating a path not only to financial success but also to fulfilling your true potential and purpose.\n\n------\n\nPowered by addevent.com \nShare your next event with us!\n
X-ALT-DESC;FMTTYPE=text/html:Our transformative time together is designed to be a game-changer, equipping you with focused strategies and insights that will prevent the drain of your invaluable time, energy, and resources. Here, you'll learn how to align your business with your unique vision and values, creating a path not only to financial success but also to fulfilling your true potential and purpose.<br /><br />------<br /><br />Powered by addevent.com <br>Share your next event with us!<br>
UID:1776768336addeventcom
SUMMARY:Aligned for Success April 2024
DTSTART;TZID=America/Denver:20240419T100000
DTEND;TZID=America/Denver:20240419T140000
DTSTAMP:20260421T104536Z
TRANSP:OPAQUE
STATUS:CONFIRMED
SEQUENCE:0
LOCATION:https://us02web.zoom.us/j/83790177637
RRULE:FREQ=DAILY;COUNT=2
X-MICROSOFT-CDO-BUSYSTATUS:BUSY
BEGIN:VALARM
TRIGGER:-PT30M
ACTION:DISPLAY
DESCRIPTION:Reminder
END:VALARM
END:VEVENT
END:VCALENDAR