BEGIN:VCALENDAR
PRODID:-//AddEvent Inc//AddEvent.com v1.7//EN
VERSION:2.0
BEGIN:VTIMEZONE
TZID:America/New_York
BEGIN:STANDARD
DTSTART:20261101T010000
RRULE:FREQ=YEARLY;BYDAY=1SU;BYMONTH=11
TZOFFSETFROM:-0400
TZOFFSETTO:-0500
TZNAME:EST
END:STANDARD
BEGIN:DAYLIGHT
DTSTART:20260308T030000
RRULE:FREQ=YEARLY;BYDAY=2SU;BYMONTH=3
TZOFFSETFROM:-0500
TZOFFSETTO:-0400
TZNAME:EDT
END:DAYLIGHT
END:VTIMEZONE
BEGIN:VEVENT
DESCRIPTION:Using Symmetries to Improve Quantum de Finetti Reductions\n\nThe analysis of quantum information processing protocols for generic states is challenging. In contrast\, when the states are IID\, i.e. the same in every round of the protocol\, the analysis greatly simplifies. de Finetti reductions are important to reduce the analysis of quantum information processing tasks to the IID case\, though this reduction has some cost associated with it. In this talk I will describe how IID-symmetries can be used to reduce the cost associated with the quantum de Finetti reductions.
X-ALT-DESC;FMTTYPE=text/html:<strong>Using Symmetries to Improve Quantum de Finetti Reductions</strong><br><br>The analysis of quantum information processing protocols for generic states is challenging. In contrast, when the states are IID, i.e. the same in every round of the protocol, the analysis greatly simplifies. de Finetti reductions are important to reduce the analysis of quantum information processing tasks to the IID case, though this reduction has some cost associated with it. In this talk I will describe how IID-symmetries can be used to reduce the cost associated with the quantum de Finetti reductions.
UID:1776802529addeventcom
SUMMARY:IQC Student Seminar by Shlok Ashok Nahar
DTSTART;TZID=America/New_York:20230920T120000
DTEND;TZID=America/New_York:20230920T130000
DTSTAMP:20260421T201529Z
TRANSP:OPAQUE
STATUS:CONFIRMED
SEQUENCE:0
LOCATION:QNC 1201
X-MICROSOFT-CDO-BUSYSTATUS:BUSY
BEGIN:VALARM
TRIGGER:-PT30M
ACTION:DISPLAY
DESCRIPTION:Reminder
END:VALARM
END:VEVENT
END:VCALENDAR