BEGIN:VCALENDAR
PRODID:-//AddEvent Inc//AddEvent.com v1.7//EN
VERSION:2.0
BEGIN:VTIMEZONE
TZID:America/New_York
BEGIN:STANDARD
DTSTART:20261101T010000
RRULE:FREQ=YEARLY;BYDAY=1SU;BYMONTH=11
TZOFFSETFROM:-0400
TZOFFSETTO:-0500
TZNAME:EST
END:STANDARD
BEGIN:DAYLIGHT
DTSTART:20260308T030000
RRULE:FREQ=YEARLY;BYDAY=2SU;BYMONTH=3
TZOFFSETFROM:-0500
TZOFFSETTO:-0400
TZNAME:EDT
END:DAYLIGHT
END:VTIMEZONE
BEGIN:VEVENT
DESCRIPTION:The n-qubit Pauli group and its normalizer the n-qubit Clifford group have applications in quantum error correction and device characterization. Recent applications have made use of the representation theory of the Clifford group. We apply the tools of (the coincidentally named) Clifford theory to examine the representation theory of the Clifford group using the much simpler representation theory of the Pauli group. We find an unexpected correspondence between irreducible characters of the n-qubit Clifford group and those of the (n + 1)-qubit Clifford group. This talk will rely on the explanation of Clifford theory given last week.
X-ALT-DESC;FMTTYPE=text/html:The n-qubit Pauli group and its normalizer the n-qubit Clifford group have applications in quantum error correction and device characterization. Recent applications have made use of the representation theory of the Clifford group. We apply the tools of (the coincidentally named) Clifford theory to examine the representation theory of the Clifford group using the much simpler representation theory of the Pauli group. We find an unexpected correspondence between irreducible characters of the n-qubit Clifford group and those of the (n + 1)-qubit Clifford group. This talk will rely on the explanation of Clifford theory given last week.
UID:1776761325addeventcom
SUMMARY:The Clifford theory of the n-qubit Clifford group
DTSTART;TZID=America/New_York:20240221T120000
DTEND;TZID=America/New_York:20240221T130000
DTSTAMP:20260421T084845Z
TRANSP:OPAQUE
STATUS:CONFIRMED
SEQUENCE:0
LOCATION:QNC 1201
X-MICROSOFT-CDO-BUSYSTATUS:BUSY
BEGIN:VALARM
TRIGGER:-PT30M
ACTION:DISPLAY
DESCRIPTION:Reminder
END:VALARM
END:VEVENT
END:VCALENDAR