BEGIN:VCALENDAR
PRODID:-//AddEvent Inc//AddEvent.com v1.7//EN
VERSION:2.0
BEGIN:VTIMEZONE
TZID:America/Chicago
BEGIN:STANDARD
DTSTART:20261101T010000
RRULE:FREQ=YEARLY;BYDAY=1SU;BYMONTH=11
TZOFFSETFROM:-0500
TZOFFSETTO:-0600
TZNAME:CST
END:STANDARD
BEGIN:DAYLIGHT
DTSTART:20260308T030000
RRULE:FREQ=YEARLY;BYDAY=2SU;BYMONTH=3
TZOFFSETFROM:-0600
TZOFFSETTO:-0500
TZNAME:CDT
END:DAYLIGHT
END:VTIMEZONE
BEGIN:VEVENT
DESCRIPTION:The 2024 Peoples Gas and North Shore Gas Energy Forum is taking place on September 24\, 2024!\n\nCheck out the Energy Forum Website https://peoplesgas.mc-ally.com/2024-energy-forum/ for the latest details.\n\n------\n\nPowered by addevent.com \nShare your next event with us!\n
X-ALT-DESC;FMTTYPE=text/html:The 2024 Peoples Gas and North Shore Gas Energy Forum is taking place on September 24, 2024!<br><br>Check out the <a href="https://peoplesgas.mc-ally.com/2024-energy-forum/" rel="noopener noreferrer" target="_blank">Energy Forum Website</a> for the latest details.<br /><br />------<br /><br />Powered by addevent.com <br>Share your next event with us!<br>
UID:1776876700addeventcom
SUMMARY:Peoples Gas and North Shore Gas Energy Forum 2024
DTSTART;TZID=America/Chicago:20240924T080000
DTEND;TZID=America/Chicago:20240924T130000
DTSTAMP:20260422T165140Z
TRANSP:OPAQUE
STATUS:CONFIRMED
SEQUENCE:0
LOCATION:1101 W Waveland Ave\, Chicago\, 60613\, IL\, USA
X-MICROSOFT-CDO-BUSYSTATUS:BUSY
BEGIN:VALARM
TRIGGER:-PT1440M
ACTION:DISPLAY
DESCRIPTION:Reminder
END:VALARM
END:VEVENT
END:VCALENDAR