BEGIN:VCALENDAR
PRODID:-//AddEvent Inc//AddEvent.com v1.7//EN
VERSION:2.0
BEGIN:VTIMEZONE
TZID:America/Los_Angeles
BEGIN:STANDARD
DTSTART:20261101T010000
RRULE:FREQ=YEARLY;BYDAY=1SU;BYMONTH=11
TZOFFSETFROM:-0700
TZOFFSETTO:-0800
TZNAME:PST
END:STANDARD
BEGIN:DAYLIGHT
DTSTART:20260308T030000
RRULE:FREQ=YEARLY;BYDAY=2SU;BYMONTH=3
TZOFFSETFROM:-0800
TZOFFSETTO:-0700
TZNAME:PDT
END:DAYLIGHT
END:VTIMEZONE
BEGIN:VEVENT
DESCRIPTION:🚀 Welcome to the AI Agent Accelerator<br data-start="123" data-end="126" />We’re so excited to have you here today\, this session is packed with game-changing strategies! Here’s what you’ll discover:\n\n⚡ Leverage AI to Instantly Stand Out From the Competition<br data-start="309" data-end="312" />⚡ Use AI to Create Video Content That Builds Trust on Autopilot<br data-start="375" data-end="378" />⚡ Tap Into Hyper-Local Lead Generation Using Smart Targeting<br data-start="438" data-end="441" />⚡ Replace Outdated Marketing With AI-Powered Innovation<br data-start="496" data-end="499" />⚡ Win the Listing Before the Appointment With Predictive AI Tools\n\nThis workshop is all about showing you how to work smarter\, save time\, and dominate your market with AI. Don’t miss a minute of it! 🙌\n\nClick “Add to Calendar” below so you don’t forget!\n\n
X-ALT-DESC;FMTTYPE=text/html:<p data-end="250" data-start="72">🚀 Welcome to the AI Agent Accelerator<br data-start="123" data-end="126" />We’re so excited to have you here today, this session is packed with game-changing strategies! Here’s what you’ll discover:</p><p data-end="566" data-start="252">⚡ Leverage AI to Instantly Stand Out From the Competition<br data-start="309" data-end="312" />⚡ Use AI to Create Video Content That Builds Trust on Autopilot<br data-start="375" data-end="378" />⚡ Tap Into Hyper-Local Lead Generation Using Smart Targeting<br data-start="438" data-end="441" />⚡ Replace Outdated Marketing With AI-Powered Innovation<br data-start="496" data-end="499" />⚡ Win the Listing Before the Appointment With Predictive AI Tools</p><p data-end="704" data-start="568">This workshop is all about showing you how to work smarter, save time, and dominate your market with AI. Don’t miss a minute of it! 🙌</p><p data-end="762" data-start="706">Click <strong data-end="733" data-start="712">“Add to Calendar”</strong> below so you don’t forget!</p>
UID:1776694542addeventcom
SUMMARY:AI Agent Accelerator
DTSTART;TZID=America/Los_Angeles:20260420T100000
DTEND;TZID=America/Los_Angeles:20260420T113000
DTSTAMP:20260420T141542Z
TRANSP:OPAQUE
STATUS:CONFIRMED
SEQUENCE:0
LOCATION:https://us06web.zoom.us/meeting/register/VD7opiuARza6AxMpBD55IA
X-MICROSOFT-CDO-BUSYSTATUS:BUSY
BEGIN:VALARM
TRIGGER:-PT30M
ACTION:DISPLAY
DESCRIPTION:Reminder
END:VALARM
END:VEVENT
END:VCALENDAR