BEGIN:VCALENDAR
PRODID:-//AddEvent Inc//AddEvent.com v1.7//EN
VERSION:2.0
BEGIN:VEVENT
DESCRIPTION:Save the Date for the 2021 Somos Summit! Official registration coming soon!
X-ALT-DESC;FMTTYPE=text/html:Save the Date for the 2021 Somos Summit! Official registration coming soon!
UID:1777115064addeventcom
SUMMARY:2021 Somos Summit (Virtual)
DTSTART;VALUE=DATE:20211005
DTEND;VALUE=DATE:20211007
DTSTAMP:20260425T110424Z
TRANSP:OPAQUE
STATUS:CONFIRMED
SEQUENCE:0
X-MICROSOFT-CDO-BUSYSTATUS:BUSY
BEGIN:VALARM
TRIGGER:-PT30M
ACTION:DISPLAY
DESCRIPTION:Reminder
END:VALARM
END:VEVENT
END:VCALENDAR