BEGIN:VCALENDAR
PRODID:-//AddEvent Inc//AddEvent.com v1.7//EN
VERSION:2.0
BEGIN:VTIMEZONE
TZID:America/New_York
BEGIN:STANDARD
DTSTART:20261101T010000
RRULE:FREQ=YEARLY;BYDAY=1SU;BYMONTH=11
TZOFFSETFROM:-0400
TZOFFSETTO:-0500
TZNAME:EST
END:STANDARD
BEGIN:DAYLIGHT
DTSTART:20260308T030000
RRULE:FREQ=YEARLY;BYDAY=2SU;BYMONTH=3
TZOFFSETFROM:-0500
TZOFFSETTO:-0400
TZNAME:EDT
END:DAYLIGHT
END:VTIMEZONE
BEGIN:VEVENT
DESCRIPTION:Online apparel sales are anticipated to eclipse $200 million in 2024\, making the digital shelf a major growth channel for brands. Join Vizit to learn how pantry products can maximize the sales power of images. \n\nDuring this 30-minute PDP Image Optimization workshop\, you will see:\n\n• The benefits of leveraging evaluative AI for content creation\, testing\, and ongoing effectiveness monitoring \n• Image best practices for the apparel category\n• Live PDP optimizations detailing how you can update your ecommerce images to better capture attention and convert shoppers\n\n\n\n------\n\nPowered by addevent.com \nShare your next event with us!\n
X-ALT-DESC;FMTTYPE=text/html:Online apparel sales are anticipated to eclipse $200 million in 2024, making the digital shelf a major growth channel for brands. Join Vizit to learn how pantry products can maximize the sales power of images. <br><br>During this 30-minute PDP Image Optimization workshop, you will see:<br><br><ul><li dir="ltr">The benefits of leveraging evaluative AI for content creation, testing, and ongoing effectiveness monitoring </li><li dir="ltr">Image best practices for the apparel category</li><li dir="ltr">Live PDP optimizations detailing how you can update your ecommerce images to better capture attention and convert shoppers</li></ul><br /><br />------<br /><br />Powered by addevent.com <br>Share your next event with us!<br>
UID:1776669569addeventcom
SUMMARY:AI-Powered Image Optimization Workshop: Apparel
DTSTART;TZID=America/New_York:20231129T130000
DTEND;TZID=America/New_York:20231129T133000
DTSTAMP:20260420T071929Z
TRANSP:OPAQUE
STATUS:CONFIRMED
SEQUENCE:0
LOCATION:https://us06web.zoom.us/webinar/register/WN_gc532hHnS-uaUaSX30ZyIQ
X-MICROSOFT-CDO-BUSYSTATUS:BUSY
BEGIN:VALARM
TRIGGER:-PT30M
ACTION:DISPLAY
DESCRIPTION:Reminder
END:VALARM
END:VEVENT
END:VCALENDAR