BEGIN:VCALENDAR
PRODID:-//AddEvent Inc//AddEvent.com v1.7//EN
VERSION:2.0
BEGIN:VTIMEZONE
TZID:America/Chicago
BEGIN:STANDARD
DTSTART:20261101T010000
RRULE:FREQ=YEARLY;BYDAY=1SU;BYMONTH=11
TZOFFSETFROM:-0500
TZOFFSETTO:-0600
TZNAME:CST
END:STANDARD
BEGIN:DAYLIGHT
DTSTART:20260308T030000
RRULE:FREQ=YEARLY;BYDAY=2SU;BYMONTH=3
TZOFFSETFROM:-0600
TZOFFSETTO:-0500
TZNAME:CDT
END:DAYLIGHT
END:VTIMEZONE
BEGIN:VEVENT
DESCRIPTION:Training Details:\n\n• Date: Monday\, August 25\, 2025\n• Location: PTT Financial Office\n• Spanish Session: 2:00 AM – 4:00 PM\n\n\n\n------\n\nPowered by addevent.com \nShare your next event with us!\n
X-ALT-DESC;FMTTYPE=text/html:<strong>Training Details:</strong><br /><ul><li><strong>Date:</strong> Monday, August 25, 2025</li><li><strong>Location:</strong> PTT Financial Office</li><li><strong>Spanish Session:</strong> 2:00 AM – 4:00 PM</li></ul><br /><br />------<br /><br />Powered by addevent.com <br>Share your next event with us!<br>
UID:1777011106addeventcom
SUMMARY:2026 Aetna Medicare Market-Specific Training (English Session)
DTSTART;TZID=America/Chicago:20250825T140000
DTEND;TZID=America/Chicago:20250825T160000
DTSTAMP:20260424T061146Z
TRANSP:OPAQUE
STATUS:CONFIRMED
SEQUENCE:0
LOCATION:410 E. Harrison Avenue\, Harlingen\, 78550\, TX\, USA
X-MICROSOFT-CDO-BUSYSTATUS:BUSY
BEGIN:VALARM
TRIGGER:-PT120M
ACTION:DISPLAY
DESCRIPTION:Reminder
END:VALARM
END:VEVENT
END:VCALENDAR