BEGIN:VCALENDAR
PRODID:-//AddEvent Inc//AddEvent.com v1.7//EN
VERSION:2.0
BEGIN:VTIMEZONE
TZID:Europe/London
BEGIN:STANDARD
DTSTART:20261025T010000
RRULE:FREQ=YEARLY;BYDAY=-1SU;BYMONTH=10
TZOFFSETFROM:+0100
TZOFFSETTO:+0000
TZNAME:GMT
END:STANDARD
BEGIN:DAYLIGHT
DTSTART:20260329T020000
RRULE:FREQ=YEARLY;BYDAY=-1SU;BYMONTH=3
TZOFFSETFROM:+0000
TZOFFSETTO:+0100
TZNAME:BST
END:DAYLIGHT
END:VTIMEZONE
BEGIN:VEVENT
DESCRIPTION:Join us on June 6 for a curated experience to elevate your compliance standards and empower you to lead your organization confidently in whistleblowing and worker protection. Prepare to elevate your compliance standards and lead your organization.
X-ALT-DESC;FMTTYPE=text/html:Join us on June 6 for a curated experience to elevate your compliance standards and empower you to lead your organization confidently in whistleblowing and worker protection. Prepare to elevate your compliance standards and lead your organization.
UID:1776610556addeventcom
SUMMARY:The UK Worker Protection Act: A NAVEX Ethics & Compliance In-Person Event
DTSTART;TZID=Europe/London:20240606T093000
DTEND;TZID=Europe/London:20240606T170000
DTSTAMP:20260419T145556Z
TRANSP:OPAQUE
STATUS:CONFIRMED
SEQUENCE:0
LOCATION:De Vere Grand Connaught Rooms - 61 - 65 Great Queen Street\, London\, WC2B 5DA
X-MICROSOFT-CDO-BUSYSTATUS:BUSY
BEGIN:VALARM
TRIGGER:-PT30M
ACTION:DISPLAY
DESCRIPTION:Reminder
END:VALARM
END:VEVENT
END:VCALENDAR