BEGIN:VCALENDAR
PRODID:-//AddEvent Inc//AddEvent.com v1.7//EN
VERSION:2.0
BEGIN:VTIMEZONE
TZID:Europe/Warsaw
BEGIN:STANDARD
DTSTART:20261025T020000
RRULE:FREQ=YEARLY;BYDAY=-1SU;BYMONTH=10
TZOFFSETFROM:+0200
TZOFFSETTO:+0100
TZNAME:CET
END:STANDARD
BEGIN:DAYLIGHT
DTSTART:20260329T030000
RRULE:FREQ=YEARLY;BYDAY=-1SU;BYMONTH=3
TZOFFSETFROM:+0100
TZOFFSETTO:+0200
TZNAME:CEST
END:DAYLIGHT
END:VTIMEZONE
BEGIN:VEVENT
DESCRIPTION:Szanowni Państwo\,\n\nw środę 15 maja o godz. 12:00 gościem WEBINARU „Prosto w fundusz”\, organizowanego przez platformę KupFundusz.pl będzie Olaf Pietrzak - zarządzający funduszem Esaliens Konserwatywny\, dyrektor inwestycyjny w Esaliens TFI.\n\nInwestowanie zawsze wiąże się z ryzykiem. W przypadku tego typu funduszy ryzyko jest oceniane nisko. I coś za coś. Zwykle nie ma co oczekiwać tu dwucyfrowych stóp zwrotu\, ale uwaga... Esaliens Konserwatywny uzyskał aż 11\,34% w 2023 roku!\n\n📣 Co jeszcze może się wydarzyć z funduszem w kolejnych miesiącach 2024 roku?\n📣 Jaka stopa zwrotu jest realna w kontekście warunków panujących obecnie na rynku?\n📣 Jak fundusz może się zachować w przypadku zmian stóp procentowych w Polsce\, gdy już takie zmiany nastąpią?
X-ALT-DESC;FMTTYPE=text/html:Szanowni Państwo,<br><br><strong>w środę 15 maja o godz. 12:00</strong> gościem WEBINARU „Prosto w fundusz”, organizowanego przez platformę KupFundusz.pl będzie <strong>Olaf Pietrzak</strong> - zarządzający funduszem <strong>Esaliens Konserwatywny,</strong> dyrektor inwestycyjny w Esaliens TFI.<br><br>Inwestowanie zawsze wiąże się z ryzykiem. W przypadku tego typu funduszy ryzyko jest oceniane nisko. I coś za coś. Zwykle nie ma co oczekiwać tu dwucyfrowych stóp zwrotu, ale uwaga... Esaliens Konserwatywny uzyskał <strong>aż 11,34% </strong>w 2023 roku!<br><br>📣 Co jeszcze może się wydarzyć z funduszem w kolejnych miesiącach 2024 roku?<br />📣 Jaka stopa zwrotu jest realna w kontekście warunków panujących obecnie na rynku?<br />📣 Jak fundusz może się zachować w przypadku zmian stóp procentowych w Polsce, gdy już takie zmiany nastąpią?
UID:1776786489addeventcom
SUMMARY:Prosto w fundusz: Esaliens Konserwatywny
DTSTART;TZID=Europe/Warsaw:20240515T120000
DTEND;TZID=Europe/Warsaw:20240515T130000
DTSTAMP:20260421T154809Z
TRANSP:OPAQUE
STATUS:CONFIRMED
SEQUENCE:0
LOCATION:https://www.youtube.com/watch?v=A6wU2J8wld4
X-MICROSOFT-CDO-BUSYSTATUS:BUSY
BEGIN:VALARM
TRIGGER:-PT30M
ACTION:DISPLAY
DESCRIPTION:Reminder
END:VALARM
END:VEVENT
END:VCALENDAR