BEGIN:VCALENDAR
PRODID:-//AddEvent Inc//AddEvent.com v1.7//EN
VERSION:2.0
BEGIN:VTIMEZONE
TZID:America/Chicago
BEGIN:STANDARD
DTSTART:20261101T010000
RRULE:FREQ=YEARLY;BYDAY=1SU;BYMONTH=11
TZOFFSETFROM:-0500
TZOFFSETTO:-0600
TZNAME:CST
END:STANDARD
BEGIN:DAYLIGHT
DTSTART:20260308T030000
RRULE:FREQ=YEARLY;BYDAY=2SU;BYMONTH=3
TZOFFSETFROM:-0600
TZOFFSETTO:-0500
TZNAME:CDT
END:DAYLIGHT
END:VTIMEZONE
BEGIN:VEVENT
DESCRIPTION:Join PLUS & Speak4 for dinner on Monday\, September 15 at Jack Stack Barbecue. \n\nLocation: Jack Stack Barbeque\, 101 W 22nd St\, Kansas City\, MO 64108\nDate: Monday\, September 15\nTime: 7:00pm CT
X-ALT-DESC;FMTTYPE=text/html:Join PLUS &amp; Speak4 for dinner on Monday, September 15 at Jack Stack Barbecue. <br><br><strong>Location: </strong>Jack Stack Barbeque, 101 W 22nd St, Kansas City, MO 64108<br /><strong>Date:</strong> Monday, September 15<br /><strong>Time:</strong> 7:00pm CT
UID:1777086626addeventcom
SUMMARY:Dinner at Jack Stack BBQ
DTSTART;TZID=America/Chicago:20250915T190000
DTEND;TZID=America/Chicago:20250915T203000
DTSTAMP:20260425T031026Z
TRANSP:OPAQUE
STATUS:CONFIRMED
SEQUENCE:0
LOCATION:Jack Stack Barbeque\, 101 W 22nd St\, Kansas City\, MO 64108
X-MICROSOFT-CDO-BUSYSTATUS:BUSY
BEGIN:VALARM
TRIGGER:-PT30M
ACTION:DISPLAY
DESCRIPTION:Reminder
END:VALARM
END:VEVENT
END:VCALENDAR