BEGIN:VCALENDAR
PRODID:-//AddEvent Inc//AddEvent.com v1.7//EN
VERSION:2.0
BEGIN:VEVENT
DESCRIPTION:http://www.ivaluanow.com/paris/en/\n\nPALAIS BRONGNIART\n\nPlace de la bourse\, 75002 Paris\n\nFRANCE
X-ALT-DESC;FMTTYPE=text/html:http://www.ivaluanow.com/paris/en/<br><br>PALAIS BRONGNIART<br />Place de la bourse, 75002 Paris<br><br>FRANCE
UID:1777058445addeventcom
SUMMARY:Ivalua Now Paris
DTSTART;VALUE=DATE:20180329
DTEND;VALUE=DATE:20180330
DTSTAMP:20260424T192045Z
TRANSP:OPAQUE
STATUS:CONFIRMED
SEQUENCE:0
X-MICROSOFT-CDO-BUSYSTATUS:BUSY
END:VEVENT
END:VCALENDAR