BEGIN:VCALENDAR
PRODID:-//AddEvent Inc//AddEvent.com v1.7//EN
VERSION:2.0
BEGIN:VTIMEZONE
TZID:America/Los_Angeles
BEGIN:STANDARD
DTSTART:20261101T010000
RRULE:FREQ=YEARLY;BYDAY=1SU;BYMONTH=11
TZOFFSETFROM:-0700
TZOFFSETTO:-0800
TZNAME:PST
END:STANDARD
BEGIN:DAYLIGHT
DTSTART:20260308T030000
RRULE:FREQ=YEARLY;BYDAY=2SU;BYMONTH=3
TZOFFSETFROM:-0800
TZOFFSETTO:-0700
TZNAME:PDT
END:DAYLIGHT
END:VTIMEZONE
BEGIN:VEVENT
DESCRIPTION:Continue the excitement of Snowflake Summit! \n\nJoin the Fivetran and Coalesce East teams for an invite-only reception at Dirty Habit\, just a 5 minute walk from Moscone Center. \n\nContinue the buzz after the second day of Summit with food\, drinks\, and lively conversation with data professionals. Unwind after a productive day and unlock new possibilities for data excellence. \n\nDon't miss out on the fun!
X-ALT-DESC;FMTTYPE=text/html:Continue the excitement of Snowflake Summit! <br><br>Join the Fivetran and Coalesce East teams for an invite-only reception at Dirty Habit, just a 5 minute walk from Moscone Center. <br><br>Continue the buzz after the second day of Summit with food, drinks, and lively conversation with data professionals. Unwind after a productive day and unlock new possibilities for data excellence. <br><br>Don't miss out on the fun!
UID:1776896240addeventcom
SUMMARY:Sip & Sync: Reception for Data Professionals
DTSTART;TZID=America/Los_Angeles:20240604T180000
DTEND;TZID=America/Los_Angeles:20240604T210000
DTSTAMP:20260422T221720Z
TRANSP:OPAQUE
STATUS:CONFIRMED
SEQUENCE:0
LOCATION:Dirty Habit\, 12 4th St\, San Francisco\, CA 94103
X-MICROSOFT-CDO-BUSYSTATUS:BUSY
BEGIN:VALARM
TRIGGER:-PT30M
ACTION:DISPLAY
DESCRIPTION:Reminder
END:VALARM
END:VEVENT
END:VCALENDAR