BEGIN:VCALENDAR
PRODID:-//AddEvent Inc//AddEvent.com v1.7//EN
VERSION:2.0
BEGIN:VEVENT
DESCRIPTION:For more info\, visit here: https://www.keyshot.com/renderworld\n\n------\n\nPowered by addevent.com \nShare your next event with us!\n
X-ALT-DESC;FMTTYPE=text/html:For more info, visit here: https://www.keyshot.com/renderworld<br /><br />------<br /><br />Powered by addevent.com <br>Share your next event with us!<br>
UID:1776610659addeventcom
SUMMARY:KeyShot RenderWorld 2018
DTSTART;VALUE=DATE:20180521
DTEND;VALUE=DATE:20180523
DTSTAMP:20260419T145739Z
TRANSP:OPAQUE
STATUS:CONFIRMED
SEQUENCE:0
LOCATION:Paséa Hotel & Spa - Huntington Beach\, California
X-MICROSOFT-CDO-BUSYSTATUS:BUSY
END:VEVENT
END:VCALENDAR