BEGIN:VCALENDAR
PRODID:-//AddEvent Inc//AddEvent.com v1.7//EN
VERSION:2.0
BEGIN:VTIMEZONE
TZID:America/New_York
BEGIN:STANDARD
DTSTART:20261101T010000
RRULE:FREQ=YEARLY;BYDAY=1SU;BYMONTH=11
TZOFFSETFROM:-0400
TZOFFSETTO:-0500
TZNAME:EST
END:STANDARD
BEGIN:DAYLIGHT
DTSTART:20260308T030000
RRULE:FREQ=YEARLY;BYDAY=2SU;BYMONTH=3
TZOFFSETFROM:-0500
TZOFFSETTO:-0400
TZNAME:EDT
END:DAYLIGHT
END:VTIMEZONE
BEGIN:VEVENT
DESCRIPTION:Tracial embedded strategy: lifting MIP* tricks to MIPco\n\nQuantum non-local games have been an important object of study for the operator algebra and computer science community due to the recent ground-breaking result MIP*=RE. Although the majority of the study has been focused on the tensor product model in the non-local games literature recently\, the commuting operator model is another model that is also considered in the non-local literature\, and the difference between these two models forms the basis for disproving the famous Connes embeddings conjecture. In this talk\, I will introduce a new set of strategies for the commuting operator model\, the tracial embedded strategy\, and sketch the proof that every strategy in the commuting operator model can be approximated by this set of strategies. Using this new characterization\, I will present some similarities between the tensor product model and the commuting operator model in the complexity theory realm. This talk is based on the paper "Almost synchronous correlation in the commuting operator model.
X-ALT-DESC;FMTTYPE=text/html:<strong>Tracial embedded strategy: lifting MIP* tricks to MIPco</strong><br><br>Quantum non-local games have been an important object of study for the operator algebra and computer science community due to the recent ground-breaking result MIP*=RE. Although the majority of the study has been focused on the tensor product model in the non-local games literature recently, the commuting operator model is another model that is also considered in the non-local literature, and the difference between these two models forms the basis for disproving the famous Connes embeddings conjecture. In this talk, I will introduce a new set of strategies for the commuting operator model, the tracial embedded strategy, and sketch the proof that every strategy in the commuting operator model can be approximated by this set of strategies. Using this new characterization, I will present some similarities between the tensor product model and the commuting operator model in the complexity theory realm. This talk is based on the paper "Almost synchronous correlation in the commuting operator model.
UID:1776761545addeventcom
SUMMARY:IQC Student Seminar Featuring Junqiao Lin
DTSTART;TZID=America/New_York:20231101T120000
DTEND;TZID=America/New_York:20231101T130000
DTSTAMP:20260421T085225Z
TRANSP:OPAQUE
STATUS:CONFIRMED
SEQUENCE:0
LOCATION:QNC 1201
X-MICROSOFT-CDO-BUSYSTATUS:BUSY
BEGIN:VALARM
TRIGGER:-PT30M
ACTION:DISPLAY
DESCRIPTION:Reminder
END:VALARM
END:VEVENT
END:VCALENDAR