BEGIN:VCALENDAR
PRODID:-//AddEvent Inc//AddEvent.com v1.7//EN
VERSION:2.0
BEGIN:VTIMEZONE
TZID:America/New_York
BEGIN:STANDARD
DTSTART:20261101T010000
RRULE:FREQ=YEARLY;BYDAY=1SU;BYMONTH=11
TZOFFSETFROM:-0400
TZOFFSETTO:-0500
TZNAME:EST
END:STANDARD
BEGIN:DAYLIGHT
DTSTART:20260308T030000
RRULE:FREQ=YEARLY;BYDAY=2SU;BYMONTH=3
TZOFFSETFROM:-0500
TZOFFSETTO:-0400
TZNAME:EDT
END:DAYLIGHT
END:VTIMEZONE
BEGIN:VEVENT
DESCRIPTION:As many state and local governments see their fiscal years come to an end\, many continue to grapple with financial hardships and budget shortfalls brought on by the Covid-19 pandemic. Looking to the next fiscal year\, states and localities will need to make difficult decisions and think about how they will recover from yet another fiscal crisis so soon after the Great Recession. In this town hall\, we will offer a current outlook on state and local budgets\, explore how budget officers are making difficult decisions and examine innovative budgeting practices.\n\nTune in at: https://townhall.routefifty.com/
X-ALT-DESC;FMTTYPE=text/html:As many state and local governments see their fiscal years come to an end, many continue to grapple with financial hardships and budget shortfalls brought on by the Covid-19 pandemic. Looking to the next fiscal year, states and localities will need to make difficult decisions and think about how they will recover from yet another fiscal crisis so soon after the Great Recession. In this town hall, we will offer a current outlook on state and local budgets, explore how budget officers are making difficult decisions and examine innovative budgeting practices.<br><br>Tune in at: https://townhall.routefifty.com/
UID:1777071126addeventcom
SUMMARY:Route Fifty Town Hall: Budgets and Shortfalls
DTSTART;TZID=America/New_York:20210525T130000
DTEND;TZID=America/New_York:20210525T160000
DTSTAMP:20260424T225206Z
TRANSP:OPAQUE
STATUS:CONFIRMED
SEQUENCE:0
X-MICROSOFT-CDO-BUSYSTATUS:BUSY
BEGIN:VALARM
TRIGGER:-PT15M
ACTION:DISPLAY
DESCRIPTION:Reminder
END:VALARM
END:VEVENT
END:VCALENDAR