BEGIN:VCALENDAR
PRODID:-//AddEvent Inc//AddEvent.com v1.7//EN
VERSION:2.0
BEGIN:VTIMEZONE
TZID:America/New_York
BEGIN:STANDARD
DTSTART:20261101T010000
RRULE:FREQ=YEARLY;BYDAY=1SU;BYMONTH=11
TZOFFSETFROM:-0400
TZOFFSETTO:-0500
TZNAME:EST
END:STANDARD
BEGIN:DAYLIGHT
DTSTART:20260308T030000
RRULE:FREQ=YEARLY;BYDAY=2SU;BYMONTH=3
TZOFFSETFROM:-0500
TZOFFSETTO:-0400
TZNAME:EDT
END:DAYLIGHT
END:VTIMEZONE
BEGIN:VEVENT
DESCRIPTION:Join us for an hour on the exciting possibility of shifts in attachment relationships in psychedelic therapy with Kelly Sykes\, PhD\, whose work is heavily influenced by psychoanalysis and attachment theory\, and Fluence Co-founder Elizabeth Nielson\, PhD.\n\nZoom Link: https://fluencetraining.zoom.us/j/83805701739?pwd=0akY2DY1Pw7CJHKbaGOKvcYpFF2HoB.1\n\nGet ready to explore the transformative potential of psychedelics in the context of attachment theory. This webinar is designed for mental health professionals\, researchers\, and anyone interested in the intersection of psychological attachment and psychedelic treatment.\n\n\n\n------\n\nPowered by addevent.com \nShare your next event with us!\n
X-ALT-DESC;FMTTYPE=text/html:Join us for an hour on the exciting possibility of shifts in attachment relationships in psychedelic therapy with Kelly Sykes, PhD, whose work is heavily influenced by psychoanalysis and attachment theory, and Fluence Co-founder Elizabeth Nielson, PhD.<br><br>Zoom Link: <a data-fr-linked="true" href="https://fluencetraining.zoom.us/j/83805701739?pwd=0akY2DY1Pw7CJHKbaGOKvcYpFF2HoB.1">https://fluencetraining.zoom.us/j/83805701739?pwd=0akY2DY1Pw7CJHKbaGOKvcYpFF2HoB.1</a><br><br><div data-hs-cell-id="cell_17222347735332" data-w="6" data-widget-type="cell" data-x="0"><div data-hs-row-id="cell_17222347735332-row-0" data-hs-tree-id="cell_17222347735332-row_1724808236249"><div data-hs-cell-id="widget_1724808236238" data-w="12" data-widget-type="custom_widget" data-x="0"><div data-hs-cos-general-type="widget" data-hs-cos-type="module" data-hs-overrideable="true" data-test="selenium-widget-editor-ready"><div data-animation-state="not-animated" data-animation-trigger="animation-block" data-effects-delay="0" data-effects-duration="0.5" data-effects-id="effects-Body-395837-384686-432423-571271-594341" data-hover-duration="1" data-hover-effects=""><div data-animation-state="not-animated" data-animation-trigger="animation-block" data-effects-delay="0" data-effects-duration="0.5" data-effects-id="effects-text1--395837-384686-432423-571271-594341" data-hover-duration="1" data-hover-effects="">Get ready to explore the transformative potential of psychedelics in the context of attachment theory. This webinar is designed for mental health professionals, researchers, and anyone interested in the intersection of psychological attachment and psychedelic treatment.</div></div></div></div><br /></div></div><div data-hs-cell-id="cell_1724902990304" data-w="6" data-widget-type="cell" data-x="6"><div data-hs-row-id="cell_1724902990304-row-0" data-hs-tree-id="cell_1724902990304-row_1725494205894"><div data-hs-cell-id="cell_1725494395740" data-w="12" data-widget-type="cell" data-x="0"><div data-hs-row-id="cell_1725494395740-row-0" data-hs-tree-id="cell_1725494395740-row_17254943957402"><div data-hs-cell-id="widget_1725494205872" data-w="12" data-widget-type="custom_widget" data-x="0"><div data-hs-cos-general-type="widget" data-hs-cos-type="module" data-hs-overrideable="true" data-test="selenium-widget-editor-ready"><div data-animation-state="not-animated" data-animation-trigger="animation-block" data-effects-delay="0" data-effects-duration="0.5" data-effects-id="effects-Body-820830-885245-415234-475221-411741" data-hover-duration="1" data-hover-effects=""><br /></div></div></div></div></div></div></div><br /><br /><br />------<br /><br />Powered by addevent.com <br>Share your next event with us!<br>
UID:1776652329addeventcom
SUMMARY:Psychedelic Shifts in Attachment Theory
DTSTART;TZID=America/New_York:20240924T120000
DTEND;TZID=America/New_York:20240924T130000
DTSTAMP:20260420T023209Z
TRANSP:OPAQUE
STATUS:CONFIRMED
SEQUENCE:0
X-MICROSOFT-CDO-BUSYSTATUS:BUSY
BEGIN:VALARM
TRIGGER:-PT30M
ACTION:DISPLAY
DESCRIPTION:Reminder
END:VALARM
END:VEVENT
END:VCALENDAR