BEGIN:VCALENDAR
PRODID:-//AddEvent Inc//AddEvent.com v1.7//EN
VERSION:2.0
BEGIN:VTIMEZONE
TZID:America/Los_Angeles
BEGIN:STANDARD
DTSTART:20261101T010000
RRULE:FREQ=YEARLY;BYDAY=1SU;BYMONTH=11
TZOFFSETFROM:-0700
TZOFFSETTO:-0800
TZNAME:PST
END:STANDARD
BEGIN:DAYLIGHT
DTSTART:20260308T030000
RRULE:FREQ=YEARLY;BYDAY=2SU;BYMONTH=3
TZOFFSETFROM:-0800
TZOFFSETTO:-0700
TZNAME:PDT
END:DAYLIGHT
END:VTIMEZONE
BEGIN:VEVENT
DESCRIPTION:NVIDIA will kick off SIGGRAPH with a keynote on Tuesday\, August 8 at 8 AM\, that gives an exclusive look at some of our newest technologies\, including award-winning research\, USD developments\, and the latest AI-powered solutions for content creation. Watch the live stream here: https://www.nvidia.com/en-us/events/siggraph/\n\nFor all things NVIDIA at SIGGRAPH\, please register for the event here: https://s2023.siggraph.org/register/
X-ALT-DESC;FMTTYPE=text/html:NVIDIA will kick off SIGGRAPH with a keynote on Tuesday, August 8 at 8 AM, that gives an exclusive look at some of our newest technologies, including award-winning research, USD developments, and the latest AI-powered solutions for content creation. Watch the live stream here: https://www.nvidia.com/en-us/events/siggraph/<br><br>For all things NVIDIA at SIGGRAPH, please register for the event here: https://s2023.siggraph.org/register/
UID:1776649167addeventcom
SUMMARY:NVIDIA Keynote at SIGGRAPH 2023
DTSTART;TZID=America/Los_Angeles:20230808T080000
DTEND;TZID=America/Los_Angeles:20230808T090000
DTSTAMP:20260420T013927Z
TRANSP:OPAQUE
STATUS:CONFIRMED
SEQUENCE:0
LOCATION:https://www.nvidia.com/en-us/events/siggraph/
X-MICROSOFT-CDO-BUSYSTATUS:BUSY
BEGIN:VALARM
TRIGGER:-PT15M
ACTION:DISPLAY
DESCRIPTION:Reminder
END:VALARM
END:VEVENT
END:VCALENDAR