BEGIN:VCALENDAR
PRODID:-//AddEvent Inc//AddEvent.com v1.7//EN
VERSION:2.0
BEGIN:VTIMEZONE
TZID:Europe/Berlin
BEGIN:STANDARD
DTSTART:20261025T020000
RRULE:FREQ=YEARLY;BYDAY=-1SU;BYMONTH=10
TZOFFSETFROM:+0200
TZOFFSETTO:+0100
TZNAME:CET
END:STANDARD
BEGIN:DAYLIGHT
DTSTART:20260329T030000
RRULE:FREQ=YEARLY;BYDAY=-1SU;BYMONTH=3
TZOFFSETFROM:+0100
TZOFFSETTO:+0200
TZNAME:CEST
END:DAYLIGHT
END:VTIMEZONE
BEGIN:VEVENT
DESCRIPTION:More info: https://www.eventbrite.co.uk/e/circular-economy-day-demo-day-and-zukunft-mitdenken-tickets-439632692217\n\nWe are very excited to invite you to our Circular Economy Day in Berlin!\nThe Circular Economy Day is an open event for the circular community across Europe\, including innovators\, researchers\, companies and investors. The event will be held by the Circular ClimAccelerator in collaboration with Zukunftsorte Berlin.\n\nThe Circular ClimAccelerator invites all circular start-ups\, entrepreneurs\, city representatives\, corporate partners\, and impact investors\, to join the Demo Day and celebrate the graduation of the best innovative start-ups from our two programmes: Circular Cities and The Built Environment.\nThe Circular ClimAccelerator is joining forces with Zukunftsorte Berlin which are hosting the fifth edition of the Zunkunft Mitdenken\; a series of panel discussions that are focused on exchanging ideas with and learning from guests\, deepening content\, and gaining new perspectives. They are bringing together scientists\, companies\, NGO’s and different administrations\, to discuss how to shape the future of the Circular Economy.\n\nThe Circular Economy Day will take place in the Science and Technology Park Adlershof in Berlin\, and is kindly hosted by WISTA Management\, STP Adlershof and the GCZ Project.\n\n \nAGENDA:\n0﻿9:00 Registration\n09:30 Panel discussion Zukunft Mitdenken - Shaping the future of collaboration for the Circular Economy\nChristine Reiß - Moderator\n• Dr. Frauke Mörike\, Researcher at TU Berlin\n• Marek Checinski\, CEO of Carbon 1\n• Roland Sillmann\, CEO of Wista Management\n• Dina Padalkina\, Founder of Circular Berlin\n• Breandán Goss\, Senior Innovation Manager Tangent\, Trinity College Dublin\n\n1﻿1:00 Demo Day Intro & Partners\nRon Immink – Moderator of the Demo Day\n• Roland Sillmann\, CEO of Wista Management\n• Aimee Apel\, Entrepreneurship Programmes Lead at EIT Climate-KIC\n• Breandán Goss\, Senior Innovation Manager Tangent\, Trinity College Dublin\n• Benedikt Pollmeier\, Managing Director\, Luvent Consulting\n\n1﻿1:30 Pitches I with audience Q & A:\n2050 Materials\n4D-Mater\nArcology System LTD\nHortee\nLoop Farms\nMunasafn RVK Tool Library\nReusable Technologies\nT﻿ranscircular\nThe ZeroNet\n\n1﻿2:30 Lunch & Start-up's Exhibition\n1﻿3:30 Panel discussion with impact investors : 'VC's in the Circular economy'\nRon Immink – Moderation\n• Robina von Stein\, Climate Tech Investor\, Contrarian Ventures\n• Florian Schabus\, VC Investor\, Planet A\n• Marko Mandic\, VC Investor\, Redstone\n\n1﻿4:00 Pitches II with audience Q & A :\n4 OMID\nCoBenefit\nEnerlind\nGS Renewable\nLightMirror\nParastruct\nPreflet\nReLearn\nSolight\nTerratonics\n\n1﻿5:30 Closing Remarks & Glühwein\n\n------\n\nPowered by addevent.com \nShare your next event with us!\n
X-ALT-DESC;FMTTYPE=text/html:More info: <a href="https://www.eventbrite.co.uk/e/circular-economy-day-demo-day-and-zukunft-mitdenken-tickets-439632692217">https://www.eventbrite.co.uk/e/circular-economy-day-demo-day-and-zukunft-mitdenken-tickets-439632692217</a><br><br>We are very excited to invite you to our Circular Economy Day in Berlin!<br />The Circular Economy Day is an open event for the circular community across Europe, including innovators, researchers, companies and investors. The event will be held by the Circular ClimAccelerator in collaboration with Zukunftsorte Berlin.<br><br>The Circular ClimAccelerator invites all circular start-ups, entrepreneurs, city representatives, corporate partners, and impact investors, to join the Demo Day and celebrate the graduation of the best innovative start-ups from our two programmes: Circular Cities and The Built Environment.<br />The Circular ClimAccelerator is joining forces with Zukunftsorte Berlin which are hosting the fifth edition of the Zunkunft Mitdenken; a series of panel discussions that are focused on exchanging ideas with and learning from guests, deepening content, and gaining new perspectives. They are bringing together scientists, companies, NGO’s and different administrations, to discuss how to shape the future of the Circular Economy.<br><br>The Circular Economy Day will take place in the Science and Technology Park Adlershof in Berlin, and is kindly hosted by WISTA Management, STP Adlershof and the GCZ Project.<br><br> <br />AGENDA:<br /><strong>0﻿9:00 </strong>Registration<br /><strong>09:30 </strong>Panel discussion Zukunft Mitdenken - Shaping the future of collaboration for the Circular Economy<br />Christine Reiß - Moderator<br />• Dr. Frauke Mörike, Researcher at TU Berlin<br />• Marek Checinski, CEO of Carbon 1<br />• Roland Sillmann, CEO of Wista Management<br />• Dina Padalkina, Founder of Circular Berlin<br />• Breandán Goss, Senior Innovation Manager Tangent, Trinity College Dublin<br><br><strong>1﻿1:00</strong> Demo Day Intro &amp; Partners<br />Ron Immink – Moderator of the Demo Day<br />• Roland Sillmann, CEO of Wista Management<br />• Aimee Apel, Entrepreneurship Programmes Lead at EIT Climate-KIC<br />• Breandán Goss, Senior Innovation Manager Tangent, Trinity College Dublin<br />• Benedikt Pollmeier, Managing Director, Luvent Consulting<br><br><strong>1﻿1:30 </strong>Pitches I with audience Q &amp; A:<br />2050 Materials<br />4D-Mater<br />Arcology System LTD<br />Hortee<br />Loop Farms<br />Munasafn RVK Tool Library<br />Reusable Technologies<br />T﻿ranscircular<br />The ZeroNet<br><br><strong>1﻿2:30</strong> Lunch &amp; Start-up's Exhibition<br /><strong>1﻿3:30</strong> Panel discussion with impact investors : 'VC's in the Circular economy'<br />Ron Immink – Moderation<br />• Robina von Stein, Climate Tech Investor, Contrarian Ventures<br />• Florian Schabus, VC Investor, Planet A<br />• Marko Mandic, VC Investor, Redstone<br><br><strong>1﻿4:00</strong> Pitches II with audience Q &amp; A :<br />4 OMID<br />CoBenefit<br />Enerlind<br />GS Renewable<br />LightMirror<br />Parastruct<br />Preflet<br />ReLearn<br />Solight<br />Terratonics<br><br><strong>1﻿5:30</strong> Closing Remarks &amp; Glühwein<br /><br />------<br /><br />Powered by addevent.com <br>Share your next event with us!<br>
UID:1776828370addeventcom
SUMMARY:Circular Economy Day: Demo Day and Zukunft Mitdenken
DTSTART;TZID=Europe/Berlin:20221209T090000
DTEND;TZID=Europe/Berlin:20221209T160000
DTSTAMP:20260422T032610Z
TRANSP:OPAQUE
STATUS:CONFIRMED
SEQUENCE:0
LOCATION:Volmerstraße 2\, 12489 Berlin
X-MICROSOFT-CDO-BUSYSTATUS:BUSY
BEGIN:VALARM
TRIGGER:-PT1440M
ACTION:DISPLAY
DESCRIPTION:Reminder
END:VALARM
END:VEVENT
END:VCALENDAR